BEGIN:VCALENDAR
VERSION:2.0
PRODID:-//USCTA - ECPv6.15.20//NONSGML v1.0//EN
CALSCALE:GREGORIAN
METHOD:PUBLISH
X-WR-CALNAME:USCTA
X-ORIGINAL-URL:https://uscourttennis.org
X-WR-CALDESC:Events for USCTA
REFRESH-INTERVAL;VALUE=DURATION:PT1H
X-Robots-Tag:noindex
X-PUBLISHED-TTL:PT1H
BEGIN:VTIMEZONE
TZID:America/New_York
BEGIN:DAYLIGHT
TZOFFSETFROM:-0500
TZOFFSETTO:-0400
TZNAME:EDT
DTSTART:20250309T070000
END:DAYLIGHT
BEGIN:STANDARD
TZOFFSETFROM:-0400
TZOFFSETTO:-0500
TZNAME:EST
DTSTART:20251102T060000
END:STANDARD
BEGIN:DAYLIGHT
TZOFFSETFROM:-0500
TZOFFSETTO:-0400
TZNAME:EDT
DTSTART:20260308T070000
END:DAYLIGHT
BEGIN:STANDARD
TZOFFSETFROM:-0400
TZOFFSETTO:-0500
TZNAME:EST
DTSTART:20261101T060000
END:STANDARD
BEGIN:DAYLIGHT
TZOFFSETFROM:-0500
TZOFFSETTO:-0400
TZNAME:EDT
DTSTART:20270314T070000
END:DAYLIGHT
BEGIN:STANDARD
TZOFFSETFROM:-0400
TZOFFSETTO:-0500
TZNAME:EST
DTSTART:20271107T060000
END:STANDARD
END:VTIMEZONE
BEGIN:VEVENT
DTSTART;VALUE=DATE:20260422
DTEND;VALUE=DATE:20260427
DTSTAMP:20260423T045001
CREATED:20251002T190907Z
LAST-MODIFIED:20251002T191013Z
UID:31370-1776816000-1777247999@uscourttennis.org
SUMMARY:2026 World Doubles Championship
DESCRIPTION:For complete information on the Championship\, visit Moreton Morrell’s World Doubles Championship website\nWorld Doubles Championship Website
URL:https://uscourttennis.org/event/2026-world-doubles-championship/
LOCATION:NY
CATEGORIES:Doubles,International
END:VEVENT
BEGIN:VEVENT
DTSTART;VALUE=DATE:20260501
DTEND;VALUE=DATE:20260504
DTSTAMP:20260423T045001
CREATED:20250910T201507Z
LAST-MODIFIED:20260329T184315Z
UID:31216-1777593600-1777852799@uscourttennis.org
SUMMARY:2026 U.S. Women's National Amateur
DESCRIPTION:Women’s National Singles & Doubles – Enter Here
URL:https://uscourttennis.org/event/2026-u-s-womens-national-amateur/
LOCATION:National Tennis Club\, 194 Bellevue Avenue\, Newport\, RI\, 02840\, United States
CATEGORIES:Amateur,Ladies,Singles
ORGANIZER;CN="Tony Hollins":MAILTO:thollins@tennisfame.com
END:VEVENT
BEGIN:VEVENT
DTSTART;VALUE=DATE:20260508
DTEND;VALUE=DATE:20260511
DTSTAMP:20260423T045001
CREATED:20260325T183951Z
LAST-MODIFIED:20260401T132854Z
UID:32250-1778198400-1778457599@uscourttennis.org
SUMMARY:2026 U.S. Amateur
DESCRIPTION:National Amateur Championship in singles and doubles.
URL:https://uscourttennis.org/event/2026-u-s-amateur-2/
LOCATION:The Tuxedo Club\, 1 W Lake Rd\, Tuxedo Park\, NY\, 10987\, United States
CATEGORIES:Amateur,Doubles,Singles,USCTA Event
ORGANIZER;CN="Tim Chisholm":MAILTO:TChisholm@thetuxedoclub.org
END:VEVENT
BEGIN:VEVENT
DTSTART;VALUE=DATE:20260605
DTEND;VALUE=DATE:20260615
DTSTAMP:20260423T045001
CREATED:20250910T201749Z
LAST-MODIFIED:20260401T134535Z
UID:31220-1780617600-1781481599@uscourttennis.org
SUMMARY:2026 U.S. Professional Singles/Schochet Cup
DESCRIPTION:Click Here to Enter
URL:https://uscourttennis.org/event/2026-u-s-professional-singles-schochet-cup/
LOCATION:National Tennis Club\, 194 Bellevue Avenue\, Newport\, RI\, 02840\, United States
CATEGORIES:Professional,Singles
ORGANIZER;CN="Josh Smith":MAILTO:NTCPros@tennisfame.com
END:VEVENT
BEGIN:VEVENT
DTSTART;VALUE=DATE:20260619
DTEND;VALUE=DATE:20260622
DTSTAMP:20260423T045001
CREATED:20250910T201915Z
LAST-MODIFIED:20250910T201915Z
UID:31222-1781827200-1782086399@uscourttennis.org
SUMMARY:2026 U.S. Mixed Doubles
DESCRIPTION:National Championship for amateur mixed doubles teams
URL:https://uscourttennis.org/event/2026-u-s-mixed-doubles/
LOCATION:The Tuxedo Club\, 1 W Lake Rd\, Tuxedo Park\, NY\, 10987\, United States
CATEGORIES:Amateur,Doubles
ORGANIZER;CN="Tim Chisholm":MAILTO:TChisholm@thetuxedoclub.org
END:VEVENT
BEGIN:VEVENT
DTSTART;VALUE=DATE:20260625
DTEND;VALUE=DATE:20260629
DTSTAMP:20260423T045001
CREATED:20250910T202018Z
LAST-MODIFIED:20250910T202018Z
UID:31224-1782345600-1782691199@uscourttennis.org
SUMMARY:2026 Pineapple Cup
DESCRIPTION:
URL:https://uscourttennis.org/event/2026-pineapple-cup/
LOCATION:National Tennis Club\, 194 Bellevue Avenue\, Newport\, RI\, 02840\, United States
CATEGORIES:Doubles
ORGANIZER;CN="Tony Hollins":MAILTO:thollins@tennisfame.com
END:VEVENT
BEGIN:VEVENT
DTSTART;VALUE=DATE:20260720
DTEND;VALUE=DATE:20260725
DTSTAMP:20260423T045001
CREATED:20250910T202125Z
LAST-MODIFIED:20260401T133114Z
UID:31226-1784505600-1784937599@uscourttennis.org
SUMMARY:2026 Junior Academy
DESCRIPTION:Download (PDF\, 4.84MB)
URL:https://uscourttennis.org/event/2026-junior-academy/
LOCATION:The Tuxedo Club\, 1 W Lake Rd\, Tuxedo Park\, NY\, 10987\, United States
CATEGORIES:Juniors
ORGANIZER;CN="Tim Chisholm":MAILTO:TChisholm@thetuxedoclub.org
END:VEVENT
BEGIN:VEVENT
DTSTART;VALUE=DATE:20260724
DTEND;VALUE=DATE:20260727
DTSTAMP:20260423T045001
CREATED:20250910T202333Z
LAST-MODIFIED:20250910T202333Z
UID:31228-1784851200-1785110399@uscourttennis.org
SUMMARY:2026 U.S. Junior Singles
DESCRIPTION:Singles in multiple division U9\, U11\, U13. U15\, U17\, U19
URL:https://uscourttennis.org/event/2026-u-s-junior-singles/
LOCATION:The Tuxedo Club\, 1 W Lake Rd\, Tuxedo Park\, NY\, 10987\, United States
CATEGORIES:Juniors
ORGANIZER;CN="Tim Chisholm":MAILTO:TChisholm@thetuxedoclub.org
END:VEVENT
BEGIN:VEVENT
DTSTART;VALUE=DATE:20260812
DTEND;VALUE=DATE:20260817
DTSTAMP:20260423T045001
CREATED:20250910T202450Z
LAST-MODIFIED:20250910T202450Z
UID:31231-1786492800-1786924799@uscourttennis.org
SUMMARY:2026 Pell Cup
DESCRIPTION:Doubles for multiple levels
URL:https://uscourttennis.org/event/2026-pell-cup/
LOCATION:National Tennis Club\, 194 Bellevue Avenue\, Newport\, RI\, 02840\, United States
CATEGORIES:Amateur,Doubles,Professional
ORGANIZER;CN="Tony Hollins":MAILTO:thollins@tennisfame.com
END:VEVENT
END:VCALENDAR