BEGIN:VCALENDAR
VERSION:2.0
PRODID:-//USCTA - ECPv6.15.20//NONSGML v1.0//EN
CALSCALE:GREGORIAN
METHOD:PUBLISH
X-WR-CALNAME:USCTA
X-ORIGINAL-URL:https://uscourttennis.org
X-WR-CALDESC:Events for USCTA
REFRESH-INTERVAL;VALUE=DURATION:PT1H
X-Robots-Tag:noindex
X-PUBLISHED-TTL:PT1H
BEGIN:VTIMEZONE
TZID:America/New_York
BEGIN:DAYLIGHT
TZOFFSETFROM:-0500
TZOFFSETTO:-0400
TZNAME:EDT
DTSTART:20130310T070000
END:DAYLIGHT
BEGIN:STANDARD
TZOFFSETFROM:-0400
TZOFFSETTO:-0500
TZNAME:EST
DTSTART:20131103T060000
END:STANDARD
BEGIN:DAYLIGHT
TZOFFSETFROM:-0500
TZOFFSETTO:-0400
TZNAME:EDT
DTSTART:20140309T070000
END:DAYLIGHT
BEGIN:STANDARD
TZOFFSETFROM:-0400
TZOFFSETTO:-0500
TZNAME:EST
DTSTART:20141102T060000
END:STANDARD
BEGIN:DAYLIGHT
TZOFFSETFROM:-0500
TZOFFSETTO:-0400
TZNAME:EDT
DTSTART:20150308T070000
END:DAYLIGHT
BEGIN:STANDARD
TZOFFSETFROM:-0400
TZOFFSETTO:-0500
TZNAME:EST
DTSTART:20151101T060000
END:STANDARD
BEGIN:DAYLIGHT
TZOFFSETFROM:-0500
TZOFFSETTO:-0400
TZNAME:EDT
DTSTART:20160313T070000
END:DAYLIGHT
BEGIN:STANDARD
TZOFFSETFROM:-0400
TZOFFSETTO:-0500
TZNAME:EST
DTSTART:20161106T060000
END:STANDARD
END:VTIMEZONE
BEGIN:VEVENT
DTSTART;VALUE=DATE:20150130
DTEND;VALUE=DATE:20150202
DTSTAMP:20260424T011721
CREATED:20141021T021319Z
LAST-MODIFIED:20150108T221756Z
UID:2256-1422576000-1422835199@uscourttennis.org
SUMMARY:Wharton Cup (Handicaps 50-59)
DESCRIPTION:Download (PDF\, 70KB)
URL:https://uscourttennis.org/event/wharton-cup-handicaps-50-59/
LOCATION:Prince’s Court\, 1800 Old Meadow Road\, McLean\, VA\, 22101\, United States
CATEGORIES:Amateur,Singles,USCTA Event
ORGANIZER;CN="Ivan Ronaldson":MAILTO:ivan@westwoodcc.com
END:VEVENT
BEGIN:VEVENT
DTSTART;VALUE=DATE:20150130
DTEND;VALUE=DATE:20150202
DTSTAMP:20260424T011721
CREATED:20141021T021205Z
LAST-MODIFIED:20150109T052021Z
UID:2255-1422576000-1422835199@uscourttennis.org
SUMMARY:Burke Cup (Handicaps 40-49)
DESCRIPTION:Download (PDF\, 123KB)
URL:https://uscourttennis.org/event/burke-cup-handicaps-40-49/
LOCATION:The Tuxedo Club\, 1 W Lake Rd\, Tuxedo Park\, NY\, 10987\, United States
CATEGORIES:Amateur,Singles,USCTA Event
ORGANIZER;CN="Tim Chisholm":MAILTO:TChisholm@thetuxedoclub.org
END:VEVENT
BEGIN:VEVENT
DTSTART;VALUE=DATE:20150130
DTEND;VALUE=DATE:20150202
DTSTAMP:20260424T011721
CREATED:20141021T021104Z
LAST-MODIFIED:20150106T201613Z
UID:2254-1422576000-1422835199@uscourttennis.org
SUMMARY:Noll Cup (Handicaps 30-39)
DESCRIPTION:Download (PDF\, 68KB)
URL:https://uscourttennis.org/event/noll-cup-handicaps-30-39/
LOCATION:National Tennis Club\, 194 Bellevue Avenue\, Newport\, RI\, 02840\, United States
CATEGORIES:Amateur,Singles,USCTA Event
ORGANIZER;CN="Camden Riviere":MAILTO:camden@nationaltennisclub.org
END:VEVENT
BEGIN:VEVENT
DTSTART;VALUE=DATE:20150130
DTEND;VALUE=DATE:20150202
DTSTAMP:20260424T011721
CREATED:20141021T020931Z
LAST-MODIFIED:20150106T201412Z
UID:2253-1422576000-1422835199@uscourttennis.org
SUMMARY:Greevy Cup (Handicaps 20-29)
DESCRIPTION:Download (PDF\, 1.28MB)
URL:https://uscourttennis.org/event/greevy-cup-handicaps-20-29/
LOCATION:Racquet Club of Philadelphia\, 215 S 16th Street\, Philadelphia\, PA\, 19102\, United States
CATEGORIES:Amateur,Singles,USCTA Event
ORGANIZER;CN="Rob Whitehouse":MAILTO:courts@rcop.com
END:VEVENT
BEGIN:VEVENT
DTSTART;VALUE=DATE:20150109
DTEND;VALUE=DATE:20150112
DTSTAMP:20260424T011721
CREATED:20141021T020253Z
LAST-MODIFIED:20141218T085202Z
UID:2250-1420761600-1421020799@uscourttennis.org
SUMMARY:U.S. 40s
DESCRIPTION:National Championships in singles and doubles for amateurs age 40 and over.\n\nDownload (PDF\, 122KB)
URL:https://uscourttennis.org/event/u-s-40s/
LOCATION:The Tuxedo Club\, 1 W Lake Rd\, Tuxedo Park\, NY\, 10987\, United States
CATEGORIES:Amateur,Doubles,Singles,USCTA Event
ORGANIZER;CN="Tim Chisholm":MAILTO:TChisholm@thetuxedoclub.org
END:VEVENT
BEGIN:VEVENT
DTSTART;TZID=America/New_York:20141212T190000
DTEND;TZID=America/New_York:20141212T220000
DTSTAMP:20260424T011721
CREATED:20141021T015938Z
LAST-MODIFIED:20141106T113338Z
UID:2248-1418410800-1418421600@uscourttennis.org
SUMMARY:USCTA Annual Dinner and Auction
DESCRIPTION:
URL:https://uscourttennis.org/event/uscta-annual-dinner-and-auction/
LOCATION:Racquet & Tennis Club\, 370 Park Avenue\, New York\, NY\, United States
CATEGORIES:Other,USCTA Event
ATTACH;FMTTYPE=image/png:https://uscourttennis.org/wp-content/uploads/2014/10/uscta-auctionlogo2014.png
END:VEVENT
END:VCALENDAR