BEGIN:VCALENDAR
VERSION:2.0
PRODID:-//USCTA - ECPv6.15.20//NONSGML v1.0//EN
CALSCALE:GREGORIAN
METHOD:PUBLISH
X-ORIGINAL-URL:https://uscourttennis.org
X-WR-CALDESC:Events for USCTA
REFRESH-INTERVAL;VALUE=DURATION:PT1H
X-Robots-Tag:noindex
X-PUBLISHED-TTL:PT1H
BEGIN:VTIMEZONE
TZID:UTC
BEGIN:STANDARD
TZOFFSETFROM:+0000
TZOFFSETTO:+0000
TZNAME:UTC
DTSTART:20140101T000000
END:STANDARD
END:VTIMEZONE
BEGIN:VTIMEZONE
TZID:America/New_York
BEGIN:DAYLIGHT
TZOFFSETFROM:-0500
TZOFFSETTO:-0400
TZNAME:EDT
DTSTART:20130310T070000
END:DAYLIGHT
BEGIN:STANDARD
TZOFFSETFROM:-0400
TZOFFSETTO:-0500
TZNAME:EST
DTSTART:20131103T060000
END:STANDARD
BEGIN:DAYLIGHT
TZOFFSETFROM:-0500
TZOFFSETTO:-0400
TZNAME:EDT
DTSTART:20140309T070000
END:DAYLIGHT
BEGIN:STANDARD
TZOFFSETFROM:-0400
TZOFFSETTO:-0500
TZNAME:EST
DTSTART:20141102T060000
END:STANDARD
BEGIN:DAYLIGHT
TZOFFSETFROM:-0500
TZOFFSETTO:-0400
TZNAME:EDT
DTSTART:20150308T070000
END:DAYLIGHT
BEGIN:STANDARD
TZOFFSETFROM:-0400
TZOFFSETTO:-0500
TZNAME:EST
DTSTART:20151101T060000
END:STANDARD
BEGIN:DAYLIGHT
TZOFFSETFROM:-0500
TZOFFSETTO:-0400
TZNAME:EDT
DTSTART:20160313T070000
END:DAYLIGHT
BEGIN:STANDARD
TZOFFSETFROM:-0400
TZOFFSETTO:-0500
TZNAME:EST
DTSTART:20161106T060000
END:STANDARD
END:VTIMEZONE
BEGIN:VEVENT
DTSTART;TZID=UTC:20160517T080000
DTEND;TZID=UTC:20160521T170000
DTSTAMP:20260423T235641
CREATED:20160420T185658Z
LAST-MODIFIED:20160420T185658Z
UID:6321-1463472000-1463850000@uscourttennis.org
SUMMARY:2016 Real Tennis World Championship
DESCRIPTION:
URL:https://uscourttennis.org/event/2016-real-tennis-world-championship/
LOCATION:National Tennis Club\, 194 Bellevue Avenue\, Newport\, RI\, 02840\, United States
CATEGORIES:Professional,Singles,USCTA Event
ATTACH;FMTTYPE=image/png:https://uscourttennis.org/wp-content/uploads/2016/04/WCfrontBlue.png
ORGANIZER;CN="Camden Riviere":MAILTO:camden@nationaltennisclub.org
END:VEVENT
BEGIN:VEVENT
DTSTART;VALUE=DATE:20160226
DTEND;VALUE=DATE:20160229
DTSTAMP:20260423T235641
CREATED:20160120T061647Z
LAST-MODIFIED:20160201T033405Z
UID:5739-1456444800-1456703999@uscourttennis.org
SUMMARY:2016 U.S. Amateur & U.S. 50s
DESCRIPTION:Download (PDF\, 64KB)
URL:https://uscourttennis.org/event/2016-u-s-amateur-u-s-50s/
LOCATION:Aiken Tennis Club\, 146 Newberry St\, Aiken\, SC\, 29801\, United States
CATEGORIES:Doubles,Singles,USCTA Event
ORGANIZER;CN="Dacre Stoker":MAILTO:dacre@bellsouth.net
END:VEVENT
BEGIN:VEVENT
DTSTART;TZID=UTC:20160216T080000
DTEND;TZID=UTC:20160225T170000
DTSTAMP:20260423T235641
CREATED:20151229T204201Z
LAST-MODIFIED:20151229T204201Z
UID:5651-1455609600-1456419600@uscourttennis.org
SUMMARY:2016 U.S. OPEN
DESCRIPTION:Download (DOCX\, 69KB)  \nDownload (DOC\, 86KB) \nDownload (PDF\, 504KB)
URL:https://uscourttennis.org/event/2016-u-s-open/
LOCATION:Racquet Club of Chicago\, 1365 North Dearborn Parkway\, Chicago\, 60610\, United States
CATEGORIES:Doubles,Professional,Singles,USCTA Event
END:VEVENT
BEGIN:VEVENT
DTSTART;VALUE=DATE:20160205
DTEND;VALUE=DATE:20160208
DTSTAMP:20260423T235641
CREATED:20160105T034425Z
LAST-MODIFIED:20160207T075005Z
UID:5664-1454630400-1454889599@uscourttennis.org
SUMMARY:2016 U.S. 60s
DESCRIPTION:Download (PDF\, 86KB) \n\nDownload (PDF\, 1.28MB)
URL:https://uscourttennis.org/event/2016-u-s-60s/
LOCATION:Racquet Club of Philadelphia\, 215 S 16th Street\, Philadelphia\, PA\, 19102\, United States
CATEGORIES:Amateur,Doubles,Singles,USCTA Event
ORGANIZER;CN="Rob Whitehouse":MAILTO:courts@rcop.com
END:VEVENT
BEGIN:VEVENT
DTSTART;VALUE=DATE:20160129
DTEND;VALUE=DATE:20160201
DTSTAMP:20260423T235641
CREATED:20151205T025211Z
LAST-MODIFIED:20160126T064302Z
UID:5563-1454025600-1454284799@uscourttennis.org
SUMMARY:2016 Noll Cup
DESCRIPTION:Download (PDF\, 102KB) \n\nDownload (PDF\, 342KB)
URL:https://uscourttennis.org/event/2016-noll-cup-2/
LOCATION:Racquet Club of Chicago\, 1365 North Dearborn Parkway\, Chicago\, 60610\, United States
CATEGORIES:Amateur,Singles,USCTA Event
END:VEVENT
BEGIN:VEVENT
DTSTART;TZID=UTC:20151211T180000
DTEND;TZID=UTC:20151211T180000
DTSTAMP:20260423T235641
CREATED:20151024T013953Z
LAST-MODIFIED:20151024T013953Z
UID:5366-1449856800-1449856800@uscourttennis.org
SUMMARY:USCTA Annual Dinner & Auction
DESCRIPTION:
URL:https://uscourttennis.org/event/uscta-annual-dinner-auction/
LOCATION:Racquet & Tennis Club\, 370 Park Avenue\, New York\, NY\, United States
CATEGORIES:USCTA Event
END:VEVENT
BEGIN:VEVENT
DTSTART;VALUE=DATE:20150327
DTEND;VALUE=DATE:20150330
DTSTAMP:20260423T235641
CREATED:20141021T023230Z
LAST-MODIFIED:20150303T034605Z
UID:2268-1427414400-1427673599@uscourttennis.org
SUMMARY:U.S. 60s
DESCRIPTION:National Championships in singles and doubles for amateurs age 60 and over. The entry form is now available. \n\nDownload (PDF\, 83KB)
URL:https://uscourttennis.org/event/u-s-60s/
LOCATION:Racquet Club of Philadelphia\, 215 S 16th Street\, Philadelphia\, PA\, 19102\, United States
CATEGORIES:Amateur,Doubles,Singles,USCTA Event
ORGANIZER;CN="Rob Whitehouse":MAILTO:courts@rcop.com
END:VEVENT
BEGIN:VEVENT
DTSTART;VALUE=DATE:20150320
DTEND;VALUE=DATE:20150323
DTSTAMP:20260423T235641
CREATED:20141021T023115Z
LAST-MODIFIED:20150322T181119Z
UID:2267-1426809600-1427068799@uscourttennis.org
SUMMARY:U.S. 50s
DESCRIPTION:Download (PDF\, 52KB) \n\nDownload (PDF\, 50KB) \n\nDownload (DOC\, 331KB)
URL:https://uscourttennis.org/event/u-s-50s/
LOCATION:Racquet & Tennis Club\, 370 Park Avenue\, New York\, NY\, United States
CATEGORIES:Amateur,Doubles,Singles,USCTA Event
ORGANIZER;CN="Barney Tanfield":MAILTO:tennis@rtcny.org
END:VEVENT
BEGIN:VEVENT
DTSTART;VALUE=DATE:20150218
DTEND;VALUE=DATE:20150228
DTSTAMP:20260423T235641
CREATED:20141021T022004Z
LAST-MODIFIED:20150109T052122Z
UID:2261-1424217600-1425081599@uscourttennis.org
SUMMARY:U.S. Open
DESCRIPTION:Download (DOC\, 67KB)
URL:https://uscourttennis.org/event/u-s-open/
LOCATION:Tennis & Racquet Club\, 939 Boylston St\, Boston\, MA\, 02115\, United States
CATEGORIES:Amateur,Doubles,Professional,Singles,USCTA Event
ORGANIZER;CN="Tony Hollins":MAILTO:thollins@tennisfame.com
END:VEVENT
BEGIN:VEVENT
DTSTART;VALUE=DATE:20150130
DTEND;VALUE=DATE:20150202
DTSTAMP:20260423T235641
CREATED:20141021T021502Z
LAST-MODIFIED:20150103T080953Z
UID:2257-1422576000-1422835199@uscourttennis.org
SUMMARY:Hickey Cup (Handicaps 60+)
DESCRIPTION:Download (PDF\, 106KB)
URL:https://uscourttennis.org/event/hickey-cup-handicaps-60/
LOCATION:Racquet Club of Chicago\, 1365 North Dearborn Parkway\, Chicago\, 60610\, United States
CATEGORIES:Amateur,Singles,USCTA Event
ORGANIZER;CN="John Cashman":MAILTO:rccpros@aol.com
END:VEVENT
BEGIN:VEVENT
DTSTART;VALUE=DATE:20150130
DTEND;VALUE=DATE:20150202
DTSTAMP:20260423T235641
CREATED:20141021T021319Z
LAST-MODIFIED:20150108T221756Z
UID:2256-1422576000-1422835199@uscourttennis.org
SUMMARY:Wharton Cup (Handicaps 50-59)
DESCRIPTION:Download (PDF\, 70KB)
URL:https://uscourttennis.org/event/wharton-cup-handicaps-50-59/
LOCATION:Prince’s Court\, 1800 Old Meadow Road\, McLean\, VA\, 22101\, United States
CATEGORIES:Amateur,Singles,USCTA Event
ORGANIZER;CN="Ivan Ronaldson":MAILTO:ivan@westwoodcc.com
END:VEVENT
BEGIN:VEVENT
DTSTART;VALUE=DATE:20150130
DTEND;VALUE=DATE:20150202
DTSTAMP:20260423T235641
CREATED:20141021T021205Z
LAST-MODIFIED:20150109T052021Z
UID:2255-1422576000-1422835199@uscourttennis.org
SUMMARY:Burke Cup (Handicaps 40-49)
DESCRIPTION:Download (PDF\, 123KB)
URL:https://uscourttennis.org/event/burke-cup-handicaps-40-49/
LOCATION:The Tuxedo Club\, 1 W Lake Rd\, Tuxedo Park\, NY\, 10987\, United States
CATEGORIES:Amateur,Singles,USCTA Event
ORGANIZER;CN="Tim Chisholm":MAILTO:TChisholm@thetuxedoclub.org
END:VEVENT
BEGIN:VEVENT
DTSTART;VALUE=DATE:20150130
DTEND;VALUE=DATE:20150202
DTSTAMP:20260423T235641
CREATED:20141021T021104Z
LAST-MODIFIED:20150106T201613Z
UID:2254-1422576000-1422835199@uscourttennis.org
SUMMARY:Noll Cup (Handicaps 30-39)
DESCRIPTION:Download (PDF\, 68KB)
URL:https://uscourttennis.org/event/noll-cup-handicaps-30-39/
LOCATION:National Tennis Club\, 194 Bellevue Avenue\, Newport\, RI\, 02840\, United States
CATEGORIES:Amateur,Singles,USCTA Event
ORGANIZER;CN="Camden Riviere":MAILTO:camden@nationaltennisclub.org
END:VEVENT
BEGIN:VEVENT
DTSTART;VALUE=DATE:20150130
DTEND;VALUE=DATE:20150202
DTSTAMP:20260423T235641
CREATED:20141021T020931Z
LAST-MODIFIED:20150106T201412Z
UID:2253-1422576000-1422835199@uscourttennis.org
SUMMARY:Greevy Cup (Handicaps 20-29)
DESCRIPTION:Download (PDF\, 1.28MB)
URL:https://uscourttennis.org/event/greevy-cup-handicaps-20-29/
LOCATION:Racquet Club of Philadelphia\, 215 S 16th Street\, Philadelphia\, PA\, 19102\, United States
CATEGORIES:Amateur,Singles,USCTA Event
ORGANIZER;CN="Rob Whitehouse":MAILTO:courts@rcop.com
END:VEVENT
BEGIN:VEVENT
DTSTART;VALUE=DATE:20150109
DTEND;VALUE=DATE:20150112
DTSTAMP:20260423T235641
CREATED:20141021T020253Z
LAST-MODIFIED:20141218T085202Z
UID:2250-1420761600-1421020799@uscourttennis.org
SUMMARY:U.S. 40s
DESCRIPTION:National Championships in singles and doubles for amateurs age 40 and over.\n\nDownload (PDF\, 122KB)
URL:https://uscourttennis.org/event/u-s-40s/
LOCATION:The Tuxedo Club\, 1 W Lake Rd\, Tuxedo Park\, NY\, 10987\, United States
CATEGORIES:Amateur,Doubles,Singles,USCTA Event
ORGANIZER;CN="Tim Chisholm":MAILTO:TChisholm@thetuxedoclub.org
END:VEVENT
BEGIN:VEVENT
DTSTART;TZID=America/New_York:20141212T190000
DTEND;TZID=America/New_York:20141212T220000
DTSTAMP:20260423T235641
CREATED:20141021T015938Z
LAST-MODIFIED:20141106T113338Z
UID:2248-1418410800-1418421600@uscourttennis.org
SUMMARY:USCTA Annual Dinner and Auction
DESCRIPTION:
URL:https://uscourttennis.org/event/uscta-annual-dinner-and-auction/
LOCATION:Racquet & Tennis Club\, 370 Park Avenue\, New York\, NY\, United States
CATEGORIES:Other,USCTA Event
ATTACH;FMTTYPE=image/png:https://uscourttennis.org/wp-content/uploads/2014/10/uscta-auctionlogo2014.png
END:VEVENT
END:VCALENDAR