BEGIN:VCALENDAR
VERSION:2.0
PRODID:-//USCTA - ECPv6.15.20//NONSGML v1.0//EN
CALSCALE:GREGORIAN
METHOD:PUBLISH
X-ORIGINAL-URL:https://uscourttennis.org
X-WR-CALDESC:Events for USCTA
REFRESH-INTERVAL;VALUE=DURATION:PT1H
X-Robots-Tag:noindex
X-PUBLISHED-TTL:PT1H
BEGIN:VTIMEZONE
TZID:UTC
BEGIN:STANDARD
TZOFFSETFROM:+0000
TZOFFSETTO:+0000
TZNAME:UTC
DTSTART:20170101T000000
END:STANDARD
END:VTIMEZONE
BEGIN:VEVENT
DTSTART;VALUE=DATE:20190531
DTEND;VALUE=DATE:20190603
DTSTAMP:20260423T182623
CREATED:20181026T231903Z
LAST-MODIFIED:20190531T231025Z
UID:10126-1559260800-1559519999@uscourttennis.org
SUMMARY:U.S. Mixed Doubles
DESCRIPTION:Download (PDF\, 196KB) \nDownload (PDF\, 536KB)
URL:https://uscourttennis.org/event/u-s-mixed-doubles-3/
LOCATION:The Tuxedo Club\, 1 W Lake Rd\, Tuxedo Park\, NY\, 10987\, United States
CATEGORIES:Amateur,Doubles,USCTA Event
ORGANIZER;CN="Tim Chisholm":MAILTO:TChisholm@thetuxedoclub.org
END:VEVENT
BEGIN:VEVENT
DTSTART;VALUE=DATE:20190511
DTEND;VALUE=DATE:20190519
DTSTAMP:20260423T182624
CREATED:20181026T230719Z
LAST-MODIFIED:20190514T165535Z
UID:10114-1557532800-1558223999@uscourttennis.org
SUMMARY:Bathurst Cup
DESCRIPTION:Schedule and ResultsTeamsStreamingPlayer Bios\n				\n				\n					\n				\n				\n				\n				\n				\n			\n				\n				\n				\n				\n				AUSTRALIA Graeme Blundstone Alastair Ramsay (Captain) Michael Williams \nFRANCE Tim Batten (Captain) Charles-Antoyne (Charlie) Hurstel Matthieu Sarlangue Nicolas Victoir  \nGREAT BRITAIN Jamie Douglas (Capt.) Edmund Kay Jamie Giddins  \nUNITED STATES Pete Cipriano Jonathan Crowell (Capt.) Todd Meringoff Pat Winthrop  \n \n			\n				\n				\n				\n				\n				  \nCLICK HERE TO GO TO THE USCTA YOUTUBE CHANNEL\n  \n			\n				\n				\n				\n				\n				\nDownload (PDF\, 317KB) \n			\n				\n			\n			\n				\n				\n				\n				\n				\n				\n				\n				\n				\n				\n			\n				CLICK HERE TO VIEW THE PROGRAM
URL:https://uscourttennis.org/event/bathurst-cup-2/
LOCATION:Racquet Club of Chicago\, 1365 North Dearborn Parkway\, Chicago\, 60610\, United States
CATEGORIES:Amateur,Doubles,International,Singles,USCTA Event
END:VEVENT
BEGIN:VEVENT
DTSTART;VALUE=DATE:20190503
DTEND;VALUE=DATE:20190506
DTSTAMP:20260423T182624
CREATED:20181026T225146Z
LAST-MODIFIED:20190430T201830Z
UID:10110-1556841600-1557100799@uscourttennis.org
SUMMARY:U.S. 40s
DESCRIPTION:Download (PDF\, 74KB) \nDownload (PDF\, 72KB) \nDownload (PDF\, 170KB)
URL:https://uscourttennis.org/event/u-s-40s-5/
LOCATION:Prince’s Court\, 1800 Old Meadow Road\, McLean\, VA\, 22101\, United States
CATEGORIES:Amateur,Doubles,Singles,USCTA Event
ORGANIZER;CN="Ivan Ronaldson":MAILTO:ivan@westwoodcc.com
END:VEVENT
BEGIN:VEVENT
DTSTART;VALUE=DATE:20190426
DTEND;VALUE=DATE:20190429
DTSTAMP:20260423T182624
CREATED:20181026T225041Z
LAST-MODIFIED:20190428T220311Z
UID:10108-1556236800-1556495999@uscourttennis.org
SUMMARY:National Open
DESCRIPTION:CLICK HERE TO WATCH THE MATCHES LIVE\n			\n				\n				\n				\n				\n				National Open Final – Camden Riviere def. Steve Virgona 6-0\, 6-1\, 6-3 \n			\n				\n				\n				\n				\n				  \n\nDownload (PDF\, 28KB)  \n 
URL:https://uscourttennis.org/event/national-open-5/
LOCATION:Racquet & Tennis Club\, 370 Park Avenue\, New York\, NY\, United States
CATEGORIES:Amateur,Professional,Singles,USCTA Event
ORGANIZER;CN="Barney Tanfield":MAILTO:tennis@rtcny.org
END:VEVENT
BEGIN:VEVENT
DTSTART;VALUE=DATE:20190412
DTEND;VALUE=DATE:20190415
DTSTAMP:20260423T182624
CREATED:20181026T224758Z
LAST-MODIFIED:20190409T202527Z
UID:10104-1555027200-1555286399@uscourttennis.org
SUMMARY:U.S. Amateur Singles
DESCRIPTION:Download (PDF\, 42KB)  \n\nDownload (DOCX\, 42KB)
URL:https://uscourttennis.org/event/u-s-amateur-singles-3/
LOCATION:Tennis & Racquet Club\, 939 Boylston St\, Boston\, MA\, 02115\, United States
CATEGORIES:Amateur,Singles,USCTA Event
ORGANIZER;CN="Tony Hollins":MAILTO:thollins@tennisfame.com
END:VEVENT
BEGIN:VEVENT
DTSTART;VALUE=DATE:20190322
DTEND;VALUE=DATE:20190325
DTSTAMP:20260423T182624
CREATED:20181026T224212Z
LAST-MODIFIED:20190320T204438Z
UID:10098-1553212800-1553471999@uscourttennis.org
SUMMARY:U.S. 70s
DESCRIPTION:Download (PDF\, 208KB)  \nDownload (PDF\, 200KB)
URL:https://uscourttennis.org/event/u-s-70s-4/
LOCATION:The Tuxedo Club\, 1 W Lake Rd\, Tuxedo Park\, NY\, 10987\, United States
CATEGORIES:Amateur,Doubles,Singles,USCTA Event
ORGANIZER;CN="Tim Chisholm":MAILTO:TChisholm@thetuxedoclub.org
END:VEVENT
BEGIN:VEVENT
DTSTART;VALUE=DATE:20190322
DTEND;VALUE=DATE:20190325
DTSTAMP:20260423T182624
CREATED:20181026T224101Z
LAST-MODIFIED:20190320T204221Z
UID:10096-1553212800-1553471999@uscourttennis.org
SUMMARY:U.S. 60s
DESCRIPTION:Download (PDF\, 208KB)  \nDownload (PDF\, 209KB)
URL:https://uscourttennis.org/event/u-s-60s-3/
LOCATION:The Tuxedo Club\, 1 W Lake Rd\, Tuxedo Park\, NY\, 10987\, United States
CATEGORIES:Amateur,Doubles,Singles,USCTA Event
ORGANIZER;CN="Tim Chisholm":MAILTO:TChisholm@thetuxedoclub.org
END:VEVENT
BEGIN:VEVENT
DTSTART;VALUE=DATE:20190222
DTEND;VALUE=DATE:20190304
DTSTAMP:20260423T182624
CREATED:20181026T223748Z
LAST-MODIFIED:20200129T061456Z
UID:10092-1550793600-1551657599@uscourttennis.org
SUMMARY:U.S. Open
DESCRIPTION:2019 U.S. OPEN\nSATURDAY FEBRUARY 23RD\nDarren Long def. James Stout w/o\n1PM – Nick Howell def. Adrian Kemp 6-1\, 6-0\, 6-1\n3PM – Josh Dodgson def. Matthieu Sarlangue 6-1\, 6-3\, 6-5\n5PM – John Lumley def. Tony Hollins 6-0\, 6-0\, 6-0 \nSUNDAY FEBRUARY 24TH\n11AM – Camden Riviere def. James Asher 6-0\, 6-1\, 6-0\n1PM – Chris Chapman def. Barney Tanfield 6-1\, 6-1\, 6-0\n3PM – Rob Fahey def. Leon Smart 6-5\, 6-1\, 6-1\n5PM – Ben Taylor- Matthews def. Mike Gooding 6-0\, 6-1\, 6-4 \nMONDAY FEBRUARY 25TH\nNo Matches \nTUESDAY FEBRUARY 26TH\n1PM – Camden Riviere def. Josh Dodgson – 6-1\, 6-0\, 6-1\n3PM –  Ben Taylor-Matthews def. Nick Howell 2-6\, 6-2\, 6-1\, 6-4\n5PM – Chris Chapman def. Darren Long 6-5\, 5-6\, 6-2\, 6-0\n7PM –  Rob Fahey def. John Lumley 6-2\, 6-4\, 4-6\, 6-2 \nWEDNESDAY FEBRUARY 27TH\n3PM – Fahey/Howell def. Gooding/Dodgson 6-2\, 6-3\, 6-2\n5PM – Chapman/Sarlangue def. Long/Smart 6-3\, 4-6. 6-4\, 6-3\n7PM – Stout/Tanfield def. Taylor-Matthews/Lumley 2-6\, 5-6\, 6-4\, 6-4\, 6-5 \nTHURSDAY FEBRUARY 28TH\n5PM – Camden Riviere def. Ben Taylor-Matthews 6-0\, 6-2\, 6-4\n7PM – Rob Fahey def. Chris Chapman 6-1\, 6-3\, 6-1 \nFRIDAY MARCH 1ST\n5PM – Fahey/Howell def. Chapman/Sarlangue 6-2\, 1-6\, 2-6\, 6-3\, 6-1\n7PM – Chisholm/Riviere vs. Stout/Tanfield 6-2\, 6-4\, 3-6\, 6-3 \nSATURDAY MARCH 2ND\n1PM – Camden Riviere def. Rob Fahey 6-3\, 6-3\, 6-3 \nSUNDAY MARCH 3RD\nNoon – Chisholm/Riviere def. Fahey/Howell 6-5\, 6-4\, 6-4 \n			\n			\n				\n				\n				\n				\n				\n				\n				\n				\n				\n				\n			\n				Singles Draw\n			\n				Doubles Draw\n			\n				Streaming\n			\n				\n				\n				\n				\n				Tweet #USOpen19 \n			\n				\n				\n				\n				\n				Tweets by USCTA
URL:https://uscourttennis.org/event/u-s-open-4/
LOCATION:The Tuxedo Club\, 1 W Lake Rd\, Tuxedo Park\, NY\, 10987\, United States
CATEGORIES:Amateur,Doubles,Professional,Singles,USCTA Event
ORGANIZER;CN="Tim Chisholm":MAILTO:TChisholm@thetuxedoclub.org
END:VEVENT
BEGIN:VEVENT
DTSTART;VALUE=DATE:20190201
DTEND;VALUE=DATE:20190204
DTSTAMP:20260423T182624
CREATED:20181026T223347Z
LAST-MODIFIED:20190204T001358Z
UID:10086-1548979200-1549238399@uscourttennis.org
SUMMARY:Hickey Cup
DESCRIPTION:Download (PDF\, 79KB)
URL:https://uscourttennis.org/event/hickey-cup-2/
LOCATION:Georgian Court\, Lakewood\, NJ\, United States
CATEGORIES:Amateur,Singles,USCTA Event
ORGANIZER;CN="Rob Whitehouse":MAILTO:courts@rcop.com
END:VEVENT
BEGIN:VEVENT
DTSTART;VALUE=DATE:20190201
DTEND;VALUE=DATE:20190204
DTSTAMP:20260423T182624
CREATED:20181026T223225Z
LAST-MODIFIED:20190203T235041Z
UID:10084-1548979200-1549238399@uscourttennis.org
SUMMARY:Wharton Cup
DESCRIPTION:Download (PDF\, 81KB) \nDownload (PDF\, 22KB)
URL:https://uscourttennis.org/event/wharton-cup-2/
LOCATION:Aiken Tennis Club\, 146 Newberry St\, Aiken\, SC\, 29801\, United States
CATEGORIES:Amateur,Singles,USCTA Event
ORGANIZER;CN="Mit Carothers":MAILTO:mitcarothers@gmail.com
END:VEVENT
BEGIN:VEVENT
DTSTART;VALUE=DATE:20190201
DTEND;VALUE=DATE:20190204
DTSTAMP:20260423T182624
CREATED:20181026T223049Z
LAST-MODIFIED:20190203T235617Z
UID:10082-1548979200-1549238399@uscourttennis.org
SUMMARY:Burke Cup
DESCRIPTION:Download (PDF\, 56KB) \nDownload (PDF\, 51KB)
URL:https://uscourttennis.org/event/burke-cup-2/
LOCATION:National Tennis Club\, 194 Bellevue Avenue\, Newport\, RI\, 02840\, United States
CATEGORIES:Amateur,Singles,USCTA Event
ORGANIZER;CN="Mike Gooding":MAILTO:pros@nationaltennisclub.org
END:VEVENT
BEGIN:VEVENT
DTSTART;VALUE=DATE:20190201
DTEND;VALUE=DATE:20190204
DTSTAMP:20260423T182624
CREATED:20181026T222951Z
LAST-MODIFIED:20190203T022852Z
UID:10080-1548979200-1549238399@uscourttennis.org
SUMMARY:Noll Cup
DESCRIPTION:GDE Error: Error retrieving file - if necessary turn off error checking (404:Not Found)
URL:https://uscourttennis.org/event/noll-cup-2/
LOCATION:Racquet Club of Philadelphia\, 215 S 16th Street\, Philadelphia\, PA\, 19102\, United States
CATEGORIES:Amateur,Singles,USCTA Event
ORGANIZER;CN="John Lumley":MAILTO:tennis@rcop.com
END:VEVENT
BEGIN:VEVENT
DTSTART;VALUE=DATE:20190201
DTEND;VALUE=DATE:20190204
DTSTAMP:20260423T182624
CREATED:20181026T222754Z
LAST-MODIFIED:20190204T000147Z
UID:10077-1548979200-1549238399@uscourttennis.org
SUMMARY:Greevy Cup
DESCRIPTION:Benedict Yortson def. Mack Mackin 3-6 6-2 6-5 \nNational Singles championship for players between handicaps 20-29\nDownload (PDF\, 97KB)  \nDownload (PDF\, 102KB) \n\nDownload (PDF\, 177KB)
URL:https://uscourttennis.org/event/greevy/
LOCATION:The Tuxedo Club\, 1 W Lake Rd\, Tuxedo Park\, NY\, 10987\, United States
CATEGORIES:Amateur,Singles,USCTA Event
ORGANIZER;CN="Tim Chisholm":MAILTO:TChisholm@thetuxedoclub.org
END:VEVENT
BEGIN:VEVENT
DTSTART;VALUE=DATE:20181102
DTEND;VALUE=DATE:20181105
DTSTAMP:20260423T182624
CREATED:20180922T203009Z
LAST-MODIFIED:20181002T062107Z
UID:9948-1541116800-1541375999@uscourttennis.org
SUMMARY:U.S. Ladies Open
DESCRIPTION:Download (PDF\, 281KB)
URL:https://uscourttennis.org/event/u-s-ladies-open-5/
LOCATION:Tennis & Racquet Club\, 939 Boylston St\, Boston\, MA\, 02115\, United States
CATEGORIES:Amateur,Doubles,Ladies,Professional,Singles,USCTA Event
ORGANIZER;CN="Tony Hollins":MAILTO:thollins@tennisfame.com
END:VEVENT
BEGIN:VEVENT
DTSTART;VALUE=DATE:20180720
DTEND;VALUE=DATE:20180723
DTSTAMP:20260423T182624
CREATED:20170923T212125Z
LAST-MODIFIED:20180630T213800Z
UID:8709-1532044800-1532303999@uscourttennis.org
SUMMARY:U.S. U19\, U17\, U15 U13 Singles
DESCRIPTION:U.S. Junior Singles \n\nDownload (PDF\, 456KB)
URL:https://uscourttennis.org/event/u-s-u19-u17-u15-u13-singles/
LOCATION:The Tuxedo Club\, 1 W Lake Rd\, Tuxedo Park\, NY\, 10987\, United States
CATEGORIES:International,Juniors,Singles,USCTA Event
ORGANIZER;CN="Tim Chisholm":MAILTO:TChisholm@thetuxedoclub.org
END:VEVENT
BEGIN:VEVENT
DTSTART;VALUE=DATE:20180604
DTEND;VALUE=DATE:20180610
DTSTAMP:20260423T182624
CREATED:20170923T211553Z
LAST-MODIFIED:20180412T222735Z
UID:8701-1528070400-1528588799@uscourttennis.org
SUMMARY:U.S. Professional Singles playing for the Schochet Cup
DESCRIPTION:Download (PDF\, 1.12MB)
URL:https://uscourttennis.org/event/u-s-professional-singles/
LOCATION:National Tennis Club\, 194 Bellevue Avenue\, Newport\, RI\, 02840\, United States
CATEGORIES:International,Professional,Singles,USCTA Event
ORGANIZER;CN="Mike Gooding":MAILTO:pros@nationaltennisclub.org
END:VEVENT
BEGIN:VEVENT
DTSTART;VALUE=DATE:20180601
DTEND;VALUE=DATE:20180604
DTSTAMP:20260423T182624
CREATED:20170923T211425Z
LAST-MODIFIED:20180602T021006Z
UID:8699-1527811200-1528070399@uscourttennis.org
SUMMARY:U.S. Mixed Doubles
DESCRIPTION:Download (PDF\, 85KB) \nDownload (PDF\, 54KB) \nDownload (PDF\, 81KB)  \nDownload (PDF\, 536KB)
URL:https://uscourttennis.org/event/u-s-mixed-doubles-2/
LOCATION:The Tuxedo Club\, 1 W Lake Rd\, Tuxedo Park\, NY\, 10987\, United States
CATEGORIES:Amateur,Doubles,USCTA Event
ORGANIZER;CN="Tim Chisholm":MAILTO:TChisholm@thetuxedoclub.org
END:VEVENT
BEGIN:VEVENT
DTSTART;VALUE=DATE:20180518
DTEND;VALUE=DATE:20180521
DTSTAMP:20260423T182625
CREATED:20170923T211024Z
LAST-MODIFIED:20180329T031244Z
UID:8693-1526601600-1526860799@uscourttennis.org
SUMMARY:U.S. U23 & U26 Championships
DESCRIPTION:Download (PDF\, 65KB)
URL:https://uscourttennis.org/event/u-s-u23-u26-championships/
LOCATION:Prince’s Court\, 1800 Old Meadow Road\, McLean\, VA\, 22101\, United States
CATEGORIES:Amateur,Doubles,Juniors,Singles,USCTA Event
ORGANIZER;CN="Ivan Ronaldson":MAILTO:ivan@westwoodcc.com
END:VEVENT
BEGIN:VEVENT
DTSTART;VALUE=DATE:20180511
DTEND;VALUE=DATE:20180514
DTSTAMP:20260423T182625
CREATED:20170923T211146Z
LAST-MODIFIED:20180509T035618Z
UID:8695-1525996800-1526255999@uscourttennis.org
SUMMARY:U.S. 40s Singles & Doubles
DESCRIPTION:Download (PDF\, 89KB)  \nDownload (PDF\, 55KB)
URL:https://uscourttennis.org/event/u-s-40s-4/
LOCATION:Racquet Club of Chicago\, 1365 North Dearborn Parkway\, Chicago\, 60610\, United States
CATEGORIES:Amateur,Doubles,Singles,USCTA Event
END:VEVENT
BEGIN:VEVENT
DTSTART;VALUE=DATE:20180421
DTEND;VALUE=DATE:20180422
DTSTAMP:20260423T182625
CREATED:20170923T205905Z
LAST-MODIFIED:20170923T205905Z
UID:8684-1524268800-1524355199@uscourttennis.org
SUMMARY:USCTA Annual Meeting
DESCRIPTION:
URL:https://uscourttennis.org/event/uscta-annual-meeting-2/
LOCATION:Racquet Club of Philadelphia\, 215 S 16th Street\, Philadelphia\, PA\, 19102\, United States
CATEGORIES:Other,USCTA Event
END:VEVENT
BEGIN:VEVENT
DTSTART;VALUE=DATE:20180420
DTEND;VALUE=DATE:20180423
DTSTAMP:20260423T182625
CREATED:20170923T205801Z
LAST-MODIFIED:20180421T075659Z
UID:8682-1524182400-1524441599@uscourttennis.org
SUMMARY:U.S. Amateur Singles
DESCRIPTION:Download (PDF\, 68KB) \n\nDownload (PDF\, 1.26MB)
URL:https://uscourttennis.org/event/u-s-amateur-singles-2/
LOCATION:Racquet Club of Philadelphia\, 215 S 16th Street\, Philadelphia\, PA\, 19102\, United States
CATEGORIES:Amateur,Singles,USCTA Event
ORGANIZER;CN="Rob Whitehouse":MAILTO:courts@rcop.com
END:VEVENT
BEGIN:VEVENT
DTSTART;VALUE=DATE:20180316
DTEND;VALUE=DATE:20180319
DTSTAMP:20260423T182625
CREATED:20170923T204642Z
LAST-MODIFIED:20170923T204642Z
UID:8670-1521158400-1521417599@uscourttennis.org
SUMMARY:U.S. 70s
DESCRIPTION:Singles and doubles championships for amateurs ages 70 years and over
URL:https://uscourttennis.org/event/u-s-70s-3/
LOCATION:Aiken Tennis Club\, 146 Newberry St\, Aiken\, SC\, 29801\, United States
CATEGORIES:Amateur,Doubles,Singles,USCTA Event
ORGANIZER;CN="Mit Carothers":MAILTO:mitcarothers@gmail.com
END:VEVENT
BEGIN:VEVENT
DTSTART;VALUE=DATE:20180316
DTEND;VALUE=DATE:20180319
DTSTAMP:20260423T182625
CREATED:20170923T204305Z
LAST-MODIFIED:20180313T041007Z
UID:8667-1521158400-1521417599@uscourttennis.org
SUMMARY:U.S. Amateur Doubles
DESCRIPTION:Download (PDF\, 47KB) \n\nDownload (PDF\, 63KB)
URL:https://uscourttennis.org/event/u-s-70s-2/
LOCATION:Prince’s Court\, 1800 Old Meadow Road\, McLean\, VA\, 22101\, United States
CATEGORIES:Amateur,Doubles,USCTA Event
ORGANIZER;CN="Ivan Ronaldson":MAILTO:ivan@westwoodcc.com
END:VEVENT
BEGIN:VEVENT
DTSTART;VALUE=DATE:20180316
DTEND;VALUE=DATE:20180319
DTSTAMP:20260423T182625
CREATED:20170923T204212Z
LAST-MODIFIED:20180228T042818Z
UID:8665-1521158400-1521417599@uscourttennis.org
SUMMARY:U.S. 60s & 70s
DESCRIPTION:Download (PDF\, 59KB)
URL:https://uscourttennis.org/event/u-s-60s-2/
LOCATION:Aiken Tennis Club\, 146 Newberry St\, Aiken\, SC\, 29801\, United States
CATEGORIES:Amateur,Doubles,Singles,USCTA Event
ORGANIZER;CN="Mit Carothers":MAILTO:mitcarothers@gmail.com
END:VEVENT
BEGIN:VEVENT
DTSTART;VALUE=DATE:20180302
DTEND;VALUE=DATE:20180305
DTSTAMP:20260423T182625
CREATED:20170923T201846Z
LAST-MODIFIED:20180207T220328Z
UID:8661-1519948800-1520207999@uscourttennis.org
SUMMARY:U.S. 50s
DESCRIPTION:Download (PDF\, 82KB)
URL:https://uscourttennis.org/event/u-s-50s-2/
LOCATION:The Tuxedo Club\, 1 W Lake Rd\, Tuxedo Park\, NY\, 10987\, United States
CATEGORIES:Amateur,Doubles,Singles,USCTA Event
ORGANIZER;CN="Tim Chisholm":MAILTO:TChisholm@thetuxedoclub.org
END:VEVENT
BEGIN:VEVENT
DTSTART;VALUE=DATE:20180202
DTEND;VALUE=DATE:20180205
DTSTAMP:20260423T182625
CREATED:20180101T025157Z
LAST-MODIFIED:20180131T064520Z
UID:9121-1517529600-1517788799@uscourttennis.org
SUMMARY:Greevy Cup
DESCRIPTION:Download (PDF\, 11KB) \n\nDownload (PDF\, 267KB)
URL:https://uscourttennis.org/event/greevy_cup/
LOCATION:Prince’s Court\, 1800 Old Meadow Road\, McLean\, VA\, 22101\, United States
CATEGORIES:Amateur,Singles,USCTA Event
ORGANIZER;CN="Ivan Ronaldson":MAILTO:ivan@westwoodcc.com
END:VEVENT
BEGIN:VEVENT
DTSTART;VALUE=DATE:20180202
DTEND;VALUE=DATE:20180205
DTSTAMP:20260423T182625
CREATED:20170923T201223Z
LAST-MODIFIED:20180131T064706Z
UID:8652-1517529600-1517788799@uscourttennis.org
SUMMARY:Hickey Cup
DESCRIPTION:Download (PDF\, 34KB) \nDownload (PDF\, 32KB)  \nDownload (PDF\, 252KB)
URL:https://uscourttennis.org/event/hickey-cup/
LOCATION:National Tennis Club\, 194 Bellevue Avenue\, Newport\, RI\, 02840\, United States
CATEGORIES:Amateur,Singles,USCTA Event
ORGANIZER;CN="Mike Gooding":MAILTO:pros@nationaltennisclub.org
END:VEVENT
BEGIN:VEVENT
DTSTART;VALUE=DATE:20180202
DTEND;VALUE=DATE:20180205
DTSTAMP:20260423T182625
CREATED:20170923T201022Z
LAST-MODIFIED:20180131T064815Z
UID:8650-1517529600-1517788799@uscourttennis.org
SUMMARY:Wharton Cup
DESCRIPTION:Download (PDF\, 115KB) \nDownload (PDF\, 129KB)
URL:https://uscourttennis.org/event/wharton-cup/
LOCATION:Racquet Club of Chicago\, 1365 North Dearborn Parkway\, Chicago\, 60610\, United States
CATEGORIES:Amateur,Singles,USCTA Event
END:VEVENT
BEGIN:VEVENT
DTSTART;VALUE=DATE:20180202
DTEND;VALUE=DATE:20180205
DTSTAMP:20260423T182625
CREATED:20170923T200917Z
LAST-MODIFIED:20180131T064849Z
UID:8648-1517529600-1517788799@uscourttennis.org
SUMMARY:Burke Cup
DESCRIPTION:Download (PDF\, 36KB) \nDownload (DOCX\, 46KB)
URL:https://uscourttennis.org/event/burke-cup/
LOCATION:RI
CATEGORIES:Amateur,Singles,USCTA Event
END:VEVENT
BEGIN:VEVENT
DTSTART;VALUE=DATE:20180202
DTEND;VALUE=DATE:20180205
DTSTAMP:20260423T182625
CREATED:20170923T200757Z
LAST-MODIFIED:20180201T215746Z
UID:8645-1517529600-1517788799@uscourttennis.org
SUMMARY:Noll Cup
DESCRIPTION:Download (PDF\, 51KB)  \nDownload (PDF\, 42KB)  \n\nDownload (PDF\, 152KB)
URL:https://uscourttennis.org/event/noll-cup/
LOCATION:Racquet Club of Philadelphia\, 215 S 16th Street\, Philadelphia\, PA\, 19102\, United States
CATEGORIES:Amateur,Singles,USCTA Event
ORGANIZER;CN="Rob Whitehouse":MAILTO:courts@rcop.com
END:VEVENT
END:VCALENDAR