BEGIN:VCALENDAR
VERSION:2.0
PRODID:-//USCTA - ECPv6.15.20//NONSGML v1.0//EN
CALSCALE:GREGORIAN
METHOD:PUBLISH
X-ORIGINAL-URL:https://uscourttennis.org
X-WR-CALDESC:Events for USCTA
REFRESH-INTERVAL;VALUE=DURATION:PT1H
X-Robots-Tag:noindex
X-PUBLISHED-TTL:PT1H
BEGIN:VTIMEZONE
TZID:America/New_York
BEGIN:DAYLIGHT
TZOFFSETFROM:-0500
TZOFFSETTO:-0400
TZNAME:EDT
DTSTART:20130310T070000
END:DAYLIGHT
BEGIN:STANDARD
TZOFFSETFROM:-0400
TZOFFSETTO:-0500
TZNAME:EST
DTSTART:20131103T060000
END:STANDARD
BEGIN:DAYLIGHT
TZOFFSETFROM:-0500
TZOFFSETTO:-0400
TZNAME:EDT
DTSTART:20140309T070000
END:DAYLIGHT
BEGIN:STANDARD
TZOFFSETFROM:-0400
TZOFFSETTO:-0500
TZNAME:EST
DTSTART:20141102T060000
END:STANDARD
BEGIN:DAYLIGHT
TZOFFSETFROM:-0500
TZOFFSETTO:-0400
TZNAME:EDT
DTSTART:20150308T070000
END:DAYLIGHT
BEGIN:STANDARD
TZOFFSETFROM:-0400
TZOFFSETTO:-0500
TZNAME:EST
DTSTART:20151101T060000
END:STANDARD
BEGIN:DAYLIGHT
TZOFFSETFROM:-0500
TZOFFSETTO:-0400
TZNAME:EDT
DTSTART:20160313T070000
END:DAYLIGHT
BEGIN:STANDARD
TZOFFSETFROM:-0400
TZOFFSETTO:-0500
TZNAME:EST
DTSTART:20161106T060000
END:STANDARD
END:VTIMEZONE
BEGIN:VEVENT
DTSTART;VALUE=DATE:20150813
DTEND;VALUE=DATE:20150817
DTSTAMP:20260423T220146
CREATED:20141021T025128Z
LAST-MODIFIED:20150716T050626Z
UID:2279-1439424000-1439769599@uscourttennis.org
SUMMARY:Pell Cup
DESCRIPTION:Download (DOCX\, 200KB)
URL:https://uscourttennis.org/event/pell-cup-2/
LOCATION:National Tennis Club\, 194 Bellevue Avenue\, Newport\, RI\, 02840\, United States
CATEGORIES:Amateur,Doubles,Professional
ORGANIZER;CN="Camden Riviere":MAILTO:camden@nationaltennisclub.org
END:VEVENT
BEGIN:VEVENT
DTSTART;VALUE=DATE:20150626
DTEND;VALUE=DATE:20150629
DTSTAMP:20260423T220146
CREATED:20141021T024754Z
LAST-MODIFIED:20150427T234759Z
UID:2276-1435276800-1435535999@uscourttennis.org
SUMMARY:Newport Handicap Doubles
DESCRIPTION:Download (PDF\, 267KB)
URL:https://uscourttennis.org/event/newport-handicap-doubles-2/
LOCATION:National Tennis Club\, 194 Bellevue Avenue\, Newport\, RI\, 02840\, United States
CATEGORIES:Amateur,Doubles,Professional
ORGANIZER;CN="Camden Riviere":MAILTO:camden@nationaltennisclub.org
END:VEVENT
BEGIN:VEVENT
DTSTART;VALUE=DATE:20150607
DTEND;VALUE=DATE:20150615
DTSTAMP:20260423T220146
CREATED:20141021T024300Z
LAST-MODIFIED:20150428T212505Z
UID:2275-1433635200-1434326399@uscourttennis.org
SUMMARY:U.S. Pro Singles playing for the Schochet Cup
DESCRIPTION:Download (PDF\, 74KB)
URL:https://uscourttennis.org/event/u-s-pro-singles-playing-for-the-schochet-cup/
LOCATION:National Tennis Club\, 194 Bellevue Avenue\, Newport\, RI\, 02840\, United States
CATEGORIES:Professional,Singles
ORGANIZER;CN="Nick Howell":MAILTO:nick@nationaltennisclub.org
END:VEVENT
BEGIN:VEVENT
DTSTART;VALUE=DATE:20150601
DTEND;VALUE=DATE:20150608
DTSTAMP:20260423T220146
CREATED:20141021T024144Z
LAST-MODIFIED:20150408T020455Z
UID:2274-1433116800-1433721599@uscourttennis.org
SUMMARY:World Doubles Championship
DESCRIPTION:Download (PDF\, 475KB)
URL:https://uscourttennis.org/event/world-doubles-championship/
LOCATION:The Tuxedo Club\, 1 W Lake Rd\, Tuxedo Park\, NY\, 10987\, United States
CATEGORIES:Doubles,Professional
ORGANIZER;CN="Tim Chisholm":MAILTO:TChisholm@thetuxedoclub.org
END:VEVENT
BEGIN:VEVENT
DTSTART;VALUE=DATE:20150409
DTEND;VALUE=DATE:20150413
DTSTAMP:20260423T220146
CREATED:20141021T023421Z
LAST-MODIFIED:20150311T115317Z
UID:2270-1428537600-1428883199@uscourttennis.org
SUMMARY:The Cherry Blossom
DESCRIPTION:Handicapped doubles for all levels.\nGo to thecherryblossom.org for more information
URL:https://uscourttennis.org/event/the-cherry-blossom/
LOCATION:Prince’s Court\, 1800 Old Meadow Road\, McLean\, VA\, 22101\, United States
CATEGORIES:Amateur,Doubles,Professional
ORGANIZER;CN="Ivan Ronaldson":MAILTO:ivan@westwoodcc.com
END:VEVENT
BEGIN:VEVENT
DTSTART;VALUE=DATE:20150218
DTEND;VALUE=DATE:20150228
DTSTAMP:20260423T220146
CREATED:20141021T022004Z
LAST-MODIFIED:20150109T052122Z
UID:2261-1424217600-1425081599@uscourttennis.org
SUMMARY:U.S. Open
DESCRIPTION:Download (DOC\, 67KB)
URL:https://uscourttennis.org/event/u-s-open/
LOCATION:Tennis & Racquet Club\, 939 Boylston St\, Boston\, MA\, 02115\, United States
CATEGORIES:Amateur,Doubles,Professional,Singles,USCTA Event
ORGANIZER;CN="Tony Hollins":MAILTO:thollins@tennisfame.com
END:VEVENT
BEGIN:VEVENT
DTSTART;VALUE=DATE:20141205
DTEND;VALUE=DATE:20141208
DTSTAMP:20260423T220146
CREATED:20141021T015444Z
LAST-MODIFIED:20141106T010003Z
UID:2246-1417737600-1417996799@uscourttennis.org
SUMMARY:National Open
DESCRIPTION:Download (PDF\, 29KB) \nSingles for U.S. based professionals and top selected amateurs.
URL:https://uscourttennis.org/event/national-open/
LOCATION:Aiken Tennis Club\, 146 Newberry St\, Aiken\, SC\, 29801\, United States
CATEGORIES:Professional,Singles
ATTACH;FMTTYPE=image/png:https://uscourttennis.org/wp-content/uploads/2014/11/aikenlogo-e1415155713368.png
ORGANIZER;CN="Dacre Stoker":MAILTO:dacre@bellsouth.net
END:VEVENT
BEGIN:VEVENT
DTSTART;VALUE=DATE:20141120
DTEND;VALUE=DATE:20141124
DTSTAMP:20260423T220146
CREATED:20141021T015259Z
LAST-MODIFIED:20141106T113536Z
UID:2245-1416441600-1416787199@uscourttennis.org
SUMMARY:Jimmy Dunn
DESCRIPTION:
URL:https://uscourttennis.org/event/jimmy-dunn/
LOCATION:Racquet Club of Philadelphia\, 215 S 16th Street\, Philadelphia\, PA\, 19102\, United States
CATEGORIES:Amateur,Doubles,Professional
ATTACH;FMTTYPE=image/png:https://uscourttennis.org/wp-content/uploads/2014/10/Screen-Shot-2014-11-05-at-6.39.06-PM.png
ORGANIZER;CN="Rob Whitehouse":MAILTO:courts@rcop.com
END:VEVENT
BEGIN:VEVENT
DTSTART;VALUE=DATE:20141106
DTEND;VALUE=DATE:20141110
DTSTAMP:20260423T220146
CREATED:20141021T013700Z
LAST-MODIFIED:20141106T113429Z
UID:2242-1415232000-1415577599@uscourttennis.org
SUMMARY:New York Open Handicap
DESCRIPTION:Handicap singles for professionals and amateurs.
URL:https://uscourttennis.org/event/new-york-open-handicap/
LOCATION:Racquet & Tennis Club\, 370 Park Avenue\, New York\, NY\, United States
CATEGORIES:Amateur,Professional,Singles
ORGANIZER;CN="Barney Tanfield":MAILTO:tennis@rtcny.org
END:VEVENT
END:VCALENDAR