BEGIN:VCALENDAR
VERSION:2.0
PRODID:-//USCTA - ECPv6.15.20//NONSGML v1.0//EN
CALSCALE:GREGORIAN
METHOD:PUBLISH
X-WR-CALNAME:USCTA
X-ORIGINAL-URL:https://uscourttennis.org
X-WR-CALDESC:Events for USCTA
REFRESH-INTERVAL;VALUE=DURATION:PT1H
X-Robots-Tag:noindex
X-PUBLISHED-TTL:PT1H
BEGIN:VTIMEZONE
TZID:America/New_York
BEGIN:DAYLIGHT
TZOFFSETFROM:-0500
TZOFFSETTO:-0400
TZNAME:EDT
DTSTART:20210314T070000
END:DAYLIGHT
BEGIN:STANDARD
TZOFFSETFROM:-0400
TZOFFSETTO:-0500
TZNAME:EST
DTSTART:20211107T060000
END:STANDARD
BEGIN:DAYLIGHT
TZOFFSETFROM:-0500
TZOFFSETTO:-0400
TZNAME:EDT
DTSTART:20220313T070000
END:DAYLIGHT
BEGIN:STANDARD
TZOFFSETFROM:-0400
TZOFFSETTO:-0500
TZNAME:EST
DTSTART:20221106T060000
END:STANDARD
BEGIN:DAYLIGHT
TZOFFSETFROM:-0500
TZOFFSETTO:-0400
TZNAME:EDT
DTSTART:20230312T070000
END:DAYLIGHT
BEGIN:STANDARD
TZOFFSETFROM:-0400
TZOFFSETTO:-0500
TZNAME:EST
DTSTART:20231105T060000
END:STANDARD
BEGIN:DAYLIGHT
TZOFFSETFROM:-0500
TZOFFSETTO:-0400
TZNAME:EDT
DTSTART:20240310T070000
END:DAYLIGHT
BEGIN:STANDARD
TZOFFSETFROM:-0400
TZOFFSETTO:-0500
TZNAME:EST
DTSTART:20241103T060000
END:STANDARD
BEGIN:DAYLIGHT
TZOFFSETFROM:-0500
TZOFFSETTO:-0400
TZNAME:EDT
DTSTART:20250309T070000
END:DAYLIGHT
BEGIN:STANDARD
TZOFFSETFROM:-0400
TZOFFSETTO:-0500
TZNAME:EST
DTSTART:20251102T060000
END:STANDARD
BEGIN:DAYLIGHT
TZOFFSETFROM:-0500
TZOFFSETTO:-0400
TZNAME:EDT
DTSTART:20260308T070000
END:DAYLIGHT
BEGIN:STANDARD
TZOFFSETFROM:-0400
TZOFFSETTO:-0500
TZNAME:EST
DTSTART:20261101T060000
END:STANDARD
BEGIN:DAYLIGHT
TZOFFSETFROM:-0500
TZOFFSETTO:-0400
TZNAME:EDT
DTSTART:20270314T070000
END:DAYLIGHT
BEGIN:STANDARD
TZOFFSETFROM:-0400
TZOFFSETTO:-0500
TZNAME:EST
DTSTART:20271107T060000
END:STANDARD
END:VTIMEZONE
BEGIN:VEVENT
DTSTART;VALUE=DATE:20260409
DTEND;VALUE=DATE:20260413
DTSTAMP:20260423T093951
CREATED:20250910T201140Z
LAST-MODIFIED:20260218T231936Z
UID:31211-1775692800-1776038399@uscourttennis.org
SUMMARY:2026 Cherry Blossom
DESCRIPTION:Handicapped Doubles for all levels \nCLICK HERE TO GO TO THE CHERRY BLOSSOM WEBSITE
URL:https://uscourttennis.org/event/2026-cherry-blossom/
LOCATION:Westwood\, VA\, United States
CATEGORIES:Amateur,Doubles,Professional
ORGANIZER;CN="Ben Taylor-Matthews":MAILTO:ben@westwoodcc.com
END:VEVENT
BEGIN:VEVENT
DTSTART;VALUE=DATE:20260330
DTEND;VALUE=DATE:20260402
DTSTAMP:20260423T093951
CREATED:20250910T201011Z
LAST-MODIFIED:20260325T172352Z
UID:31209-1774828800-1775087999@uscourttennis.org
SUMMARY:2026 National League Super Event
DESCRIPTION:The New York Racquet & Tennis Club is proud to partner with the United States Court Tennis Association and the United States Court Tennis Preservation Foundation to host the National League Super Event & Pro-Am from March 30 to April 1\, 2026. \nThis is the fifth year of the Super Event format and it will feature 7 of the top 8 doubles players in the world\, for three days of intense doubles competition in a team format. \nWith the invaluable partnership from the professionals\, the National League continues to evolve as the premier annual event\, featuring the strongest field in the country. \nThe event will be streamed live on the USCTA YouTube channel. For further details please contact the Pro Shop at the New York Racquet & Tennis Club. \nCLICK HERE TO GO TO THE NATIONAL LEAGUE SUPER EVENT PAGE\n \n[/et_pb_text][/et_pb_column][/et_pb_row][/et_pb_section]
URL:https://uscourttennis.org/event/2026-national-league-super-event/
LOCATION:Racquet & Tennis Club\, 370 Park Avenue\, New York\, NY\, United States
CATEGORIES:Doubles,Professional
ORGANIZER;CN="Barney Tanfield":MAILTO:tennis@rtcny.org
END:VEVENT
BEGIN:VEVENT
DTSTART;VALUE=DATE:20260318
DTEND;VALUE=DATE:20260327
DTSTAMP:20260423T093951
CREATED:20250910T200513Z
LAST-MODIFIED:20260203T173116Z
UID:31205-1773792000-1774569599@uscourttennis.org
SUMMARY:2026 U.S. Open
DESCRIPTION:National Championship in singles and doubles \nCLICK HERE TO ENTER THE U.S. OPEN \nPlease contact Will Hopton (will@racquetclubchicago.org and +1 312-714-0734) and/or Steve Virgona (steve@racquetclubchicago.org and +1 267-574-5008) with any questions
URL:https://uscourttennis.org/event/2026-u-s-open/
LOCATION:Racquet Club of Chicago\, 1365 North Dearborn Parkway\, Chicago\, 60610\, United States
CATEGORIES:Amateur,Doubles,Professional,Singles
END:VEVENT
BEGIN:VEVENT
DTSTART;VALUE=DATE:20260306
DTEND;VALUE=DATE:20260309
DTSTAMP:20260423T093951
CREATED:20250910T200048Z
LAST-MODIFIED:20260218T232214Z
UID:31199-1772755200-1773014399@uscourttennis.org
SUMMARY:2026 U.S. Ladies Open
DESCRIPTION:CLICK HERE TO VIEW THE 2026 U.S. LADIES DRAWS \nTournament Chair: Daniel Nagler – dbn71@aol.com \n\n\n\nThe Boston Tennis & Racquet Club is honored to host the 2026 U.S. Ladies Open.\n\n\n 
URL:https://uscourttennis.org/event/2026-u-s-ladies-open/
LOCATION:Tennis & Racquet Club\, 939 Boylston St\, Boston\, MA\, 02115\, United States
CATEGORIES:Amateur,Doubles,Ladies,Professional,Singles
END:VEVENT
BEGIN:VEVENT
DTSTART;VALUE=DATE:20260206
DTEND;VALUE=DATE:20260209
DTSTAMP:20260423T093951
CREATED:20250910T192003Z
LAST-MODIFIED:20260131T033911Z
UID:31186-1770336000-1770595199@uscourttennis.org
SUMMARY:2026 National Open
DESCRIPTION:CLICK HERE TO GO TO THE NATIONAL OPEN PAGE\n\nDownload (PDF\, 235KB)
URL:https://uscourttennis.org/event/2026-national-open/
LOCATION:Racquet Club of Philadelphia\, 215 S 16th Street\, Philadelphia\, PA\, 19102\, United States
CATEGORIES:Amateur,Professional,Seniors
ORGANIZER;CN="Rob Whitehouse":MAILTO:courts@rcop.com
END:VEVENT
BEGIN:VEVENT
DTSTART;VALUE=DATE:20251120
DTEND;VALUE=DATE:20251124
DTSTAMP:20260423T093951
CREATED:20250910T190228Z
LAST-MODIFIED:20250930T185853Z
UID:31164-1763596800-1763942399@uscourttennis.org
SUMMARY:2025 Jimmy Dunn
DESCRIPTION:ENTRY FORM CLICK HERE
URL:https://uscourttennis.org/event/2025-jimmy-dunn/
LOCATION:Racquet Club of Philadelphia\, 215 S 16th Street\, Philadelphia\, PA\, 19102\, United States
CATEGORIES:Amateur,Doubles,Professional
ORGANIZER;CN="Rob Whitehouse":MAILTO:courts@rcop.com
END:VEVENT
BEGIN:VEVENT
DTSTART;VALUE=DATE:20251106
DTEND;VALUE=DATE:20251110
DTSTAMP:20260423T093951
CREATED:20250910T185652Z
LAST-MODIFIED:20251109T234515Z
UID:31160-1762387200-1762732799@uscourttennis.org
SUMMARY:2025 NY Open Handicap
DESCRIPTION:Download (PDF\, 65KB)  \nDownload (PDF\, 65KB)  \nDownload (PDF\, 79KB)  \nDownload (PDF\, 78KB)  \n\n				\n				\n				\n				\n				\n				\n				\n				\n				\n				\n				\n				\n				\n				\n				\n				\n				\n				Handicap singles for professionals and amateurs
URL:https://uscourttennis.org/event/2025-ny-open-handicap/
LOCATION:Racquet & Tennis Club\, 370 Park Avenue\, New York\, NY\, United States
CATEGORIES:Amateur,Professional,Singles
ORGANIZER;CN="Barney Tanfield":MAILTO:tennis@rtcny.org
END:VEVENT
BEGIN:VEVENT
DTSTART;VALUE=DATE:20251011
DTEND;VALUE=DATE:20251020
DTSTAMP:20260423T093951
CREATED:20250831T165645Z
LAST-MODIFIED:20250908T230437Z
UID:31078-1760140800-1760918399@uscourttennis.org
SUMMARY:2025 IRTPA Players Championship
DESCRIPTION:
URL:https://uscourttennis.org/event/2025-irtpa-players-championship/
LOCATION:Aiken Tennis Club\, 146 Newberry St\, Aiken\, SC\, 29801\, United States
CATEGORIES:International,Professional
END:VEVENT
BEGIN:VEVENT
DTSTART;VALUE=DATE:20250607
DTEND;VALUE=DATE:20250616
DTSTAMP:20260423T093952
CREATED:20250501T160252Z
LAST-MODIFIED:20250501T160438Z
UID:29421-1749254400-1750031999@uscourttennis.org
SUMMARY:2025 US Pro Singles/Schochet Cup
DESCRIPTION:Professional Singles. \nInfo coming soon.
URL:https://uscourttennis.org/event/2025-us-pro-singles-schochet-cup/
LOCATION:National Tennis Club\, 194 Bellevue Avenue\, Newport\, RI\, 02840\, United States
CATEGORIES:Professional,Singles
ORGANIZER;CN="Tony Hollins":MAILTO:thollins@tennisfame.com
END:VEVENT
BEGIN:VEVENT
DTSTART;TZID=America/New_York:20250518T180000
DTEND;TZID=America/New_York:20250518T180000
DTSTAMP:20260423T093952
CREATED:20250505T212956Z
LAST-MODIFIED:20250523T143612Z
UID:30787-1747591200-1747591200@uscourttennis.org
SUMMARY:2025 Final Eliminator
DESCRIPTION:WATCH DAY 1 WATCH DAY 2 WATCH DAY 3\n2025 World Championship Final Eliminator – John Lumley def. Nick Howell 7 sets to 5 (6/1\, 6/5\, 6/0\, 3/6\, 2/6\, 4/6\, 5/6\, 3/6\, 6/4\, 6/5\, 6/2. 6/1). He will face Camden Riviere in the World Championship Sept. 23\, 25\, 27 in Newport
URL:https://uscourttennis.org/event/2025-final-eliminator/
LOCATION:Aiken Tennis Club\, 146 Newberry St\, Aiken\, SC\, 29801\, United States
CATEGORIES:International,Professional
ORGANIZER;CN="Nick Howell":MAILTO:nick@nationaltennisclub.org
END:VEVENT
BEGIN:VEVENT
DTSTART;VALUE=DATE:20250331
DTEND;VALUE=DATE:20250403
DTSTAMP:20260423T093952
CREATED:20241027T162222Z
LAST-MODIFIED:20250403T021004Z
UID:29409-1743379200-1743638399@uscourttennis.org
SUMMARY:2025 National League Super Event
DESCRIPTION:Congratulations to Team Tambour (James Stout\, Noah Motz\, Ben Taylor-Matthews and Adrian Kemp) on winning the 2025 National League!! \n \n 
URL:https://uscourttennis.org/event/2025-national-league-super-event/
LOCATION:Racquet & Tennis Club\, 370 Park Avenue\, New York\, NY\, United States
CATEGORIES:Amateur,Doubles,Professional,USCTA Event
ORGANIZER;CN="Barney Tanfield":MAILTO:tennis@rtcny.org
END:VEVENT
BEGIN:VEVENT
DTSTART;VALUE=DATE:20250220
DTEND;VALUE=DATE:20250303
DTSTAMP:20260423T093952
CREATED:20241027T161339Z
LAST-MODIFIED:20250116T202630Z
UID:29403-1740009600-1740959999@uscourttennis.org
SUMMARY:2025 US Open
DESCRIPTION:National Championship in singles and doubles
URL:https://uscourttennis.org/event/2025-us-open/
LOCATION:Westwood\, VA\, United States
CATEGORIES:Professional
ORGANIZER;CN="Ivan Ronaldson":MAILTO:ivan@westwoodcc.com
END:VEVENT
BEGIN:VEVENT
DTSTART;VALUE=DATE:20231116
DTEND;VALUE=DATE:20231120
DTSTAMP:20260423T093952
CREATED:20230918T164059Z
LAST-MODIFIED:20230930T162536Z
UID:27320-1700092800-1700438399@uscourttennis.org
SUMMARY:2023 Jimmy Dunn
DESCRIPTION:Download (PDF\, 1015KB)
URL:https://uscourttennis.org/event/2023-jimmy-dunn/
LOCATION:Racquet Club of Philadelphia\, 215 S 16th Street\, Philadelphia\, PA\, 19102\, United States
CATEGORIES:Amateur,Doubles,Professional
ORGANIZER;CN="Rob Whitehouse":MAILTO:courts@rcop.com
END:VEVENT
BEGIN:VEVENT
DTSTART;VALUE=DATE:20231108
DTEND;VALUE=DATE:20231113
DTSTAMP:20260423T093952
CREATED:20230918T163818Z
LAST-MODIFIED:20231111T150719Z
UID:27316-1699401600-1699833599@uscourttennis.org
SUMMARY:2023 Silver Racquet & New York Open Handicap
DESCRIPTION:Silver Racquet – Invitational singles for top amateurs \nNew York Open Handicap – Handicap singles for professionals & amateurs
URL:https://uscourttennis.org/event/2023-silver-racquet-new-york-open-handicap/
LOCATION:Racquet & Tennis Club\, 370 Park Avenue\, New York\, NY\, United States
CATEGORIES:Amateur,Professional,Singles
ORGANIZER;CN="Barney Tanfield":MAILTO:tennis@rtcny.org
END:VEVENT
BEGIN:VEVENT
DTSTART;VALUE=DATE:20231002
DTEND;VALUE=DATE:20231006
DTSTAMP:20260423T093952
CREATED:20230908T180418Z
LAST-MODIFIED:20230930T162746Z
UID:27274-1696204800-1696550399@uscourttennis.org
SUMMARY:2023 Below Zero
DESCRIPTION:Download (PDF\, 59KB)
URL:https://uscourttennis.org/event/2023-below-zero/
LOCATION:Racquet & Tennis Club\, 370 Park Avenue\, New York\, NY\, United States
CATEGORIES:Amateur,Professional,Singles
ORGANIZER;CN="Barney Tanfield":MAILTO:tennis@rtcny.org
END:VEVENT
BEGIN:VEVENT
DTSTART;VALUE=DATE:20230816
DTEND;VALUE=DATE:20230821
DTSTAMP:20260423T093952
CREATED:20230628T232642Z
LAST-MODIFIED:20230628T232642Z
UID:26916-1692144000-1692575999@uscourttennis.org
SUMMARY:2023 Pell Cup
DESCRIPTION:
URL:https://uscourttennis.org/event/2023-pell-cup/
LOCATION:National Tennis Club\, 194 Bellevue Avenue\, Newport\, RI\, 02840\, United States
CATEGORIES:Amateur,Doubles,Professional
ORGANIZER;CN="Tony Hollins":MAILTO:thollins@tennisfame.com
END:VEVENT
BEGIN:VEVENT
DTSTART;VALUE=DATE:20230610
DTEND;VALUE=DATE:20230618
DTSTAMP:20260423T093952
CREATED:20220907T200439Z
LAST-MODIFIED:20230530T165326Z
UID:25541-1686355200-1687046399@uscourttennis.org
SUMMARY:2023 U.S. Pro Singles/Schochet Cup
DESCRIPTION:Professional Singles\nCLICK HERE TO SEE THE DRAWS
URL:https://uscourttennis.org/event/2023-u-s-pro-singles-schochet-cup/
LOCATION:National Tennis Club\, 194 Bellevue Avenue\, Newport\, RI\, 02840\, United States
CATEGORIES:Professional,Singles
END:VEVENT
BEGIN:VEVENT
DTSTART;VALUE=DATE:20230519
DTEND;VALUE=DATE:20230522
DTSTAMP:20260423T093952
CREATED:20220907T200318Z
LAST-MODIFIED:20230512T175226Z
UID:25539-1684454400-1684713599@uscourttennis.org
SUMMARY:2023 U.S. Ladies Open
DESCRIPTION:National Singles & Doubles Championships\nCLICK HERE TO GO TO OUR 2023 U.S. LADIES OPEN TOURNAMENT PAGE FOR DRAWS AND RESULTS \n\nDownload (PDF\, 3.52MB) \n\nDownload (PDF\, 1.08MB)
URL:https://uscourttennis.org/event/2023-u-s-ladies-open/
LOCATION:Westwood\, VA\, United States
CATEGORIES:Amateur,Doubles,Professional,Singles
ORGANIZER;CN="Ivan Ronaldson":MAILTO:ivan@westwoodcc.com
END:VEVENT
BEGIN:VEVENT
DTSTART;VALUE=DATE:20230406
DTEND;VALUE=DATE:20230410
DTSTAMP:20260423T093952
CREATED:20220907T195949Z
LAST-MODIFIED:20230308T045113Z
UID:25535-1680739200-1681084799@uscourttennis.org
SUMMARY:2023 Cherry Blossom
DESCRIPTION:Doubles for multiple levels\nCLICK HERE TO GO TO THE CHERRY BLOSSOM DOUBLES WEBSITE
URL:https://uscourttennis.org/event/2023-cherry-blossom/
LOCATION:Westwood\, VA\, United States
CATEGORIES:Amateur,Doubles,Professional
ORGANIZER;CN="Ivan Ronaldson":MAILTO:ivan@westwoodcc.com
END:VEVENT
BEGIN:VEVENT
DTSTART;TZID=America/New_York:20230403T160000
DTEND;TZID=America/New_York:20230405T210000
DTSTAMP:20260423T093952
CREATED:20230312T001356Z
LAST-MODIFIED:20230406T031103Z
UID:26366-1680537600-1680728400@uscourttennis.org
SUMMARY:National League Super Event
DESCRIPTION:Download (PDF\, 4.52MB) \n\nDownload (PDF\, 125KB) \nDownload (PDF\, 189KB)
URL:https://uscourttennis.org/event/national-league-super-event/
LOCATION:Racquet & Tennis Club\, 370 Park Avenue\, New York\, NY\, United States
CATEGORIES:National League,Professional
ORGANIZER;CN="Barney Tanfield":MAILTO:tennis@rtcny.org
END:VEVENT
BEGIN:VEVENT
DTSTART;VALUE=DATE:20230223
DTEND;VALUE=DATE:20230303
DTSTAMP:20260423T093952
CREATED:20220907T160039Z
LAST-MODIFIED:20230102T201801Z
UID:25513-1677110400-1677801599@uscourttennis.org
SUMMARY:2023 U.S. Open
DESCRIPTION:\
URL:https://uscourttennis.org/event/2023-u-s-open/
LOCATION:Tennis & Racquet Club\, 939 Boylston St\, Boston\, MA\, 02115\, United States
CATEGORIES:Amateur,Doubles,Professional,Singles
END:VEVENT
BEGIN:VEVENT
DTSTART;VALUE=DATE:20221202
DTEND;VALUE=DATE:20221205
DTSTAMP:20260423T093952
CREATED:20220907T153452Z
LAST-MODIFIED:20221205T182925Z
UID:25488-1669939200-1670198399@uscourttennis.org
SUMMARY:2023 National Open
DESCRIPTION:Click here to watch the matches on the Aiken Tennis Club channel.\n\nDownload (PDF\, 214KB)  \n \n\nDownload (DOCX\, 560KB) \nSingles for US-based pros and selected amateurs
URL:https://uscourttennis.org/event/2023-national-open/
LOCATION:Aiken Tennis Club\, 146 Newberry St\, Aiken\, SC\, 29801\, United States
CATEGORIES:Amateur,Professional,Singles
END:VEVENT
BEGIN:VEVENT
DTSTART;VALUE=DATE:20221117
DTEND;VALUE=DATE:20221121
DTSTAMP:20260423T093952
CREATED:20220907T152840Z
LAST-MODIFIED:20221117T024548Z
UID:25486-1668643200-1668988799@uscourttennis.org
SUMMARY:2022 Jimmy Dunn
DESCRIPTION:Download (PDF\, 246KB) \n\nDownload (PDF\, 2.06MB)
URL:https://uscourttennis.org/event/2022-jimmy-dunn/
LOCATION:Racquet Club of Philadelphia\, 215 S 16th Street\, Philadelphia\, PA\, 19102\, United States
CATEGORIES:Amateur,Doubles,Professional
ORGANIZER;CN="Rob Whitehouse":MAILTO:courts@rcop.com
END:VEVENT
BEGIN:VEVENT
DTSTART;VALUE=DATE:20221109
DTEND;VALUE=DATE:20221114
DTSTAMP:20260423T093952
CREATED:20220907T152716Z
LAST-MODIFIED:20221113T203433Z
UID:25484-1667952000-1668383999@uscourttennis.org
SUMMARY:2022 Silver Racquet & NY Open Handicap Weekend
DESCRIPTION:Silver Racquet – Invitational Singles for top amateurs\nNY Open Handicap – Handicap singles for professionals & amateurs \n\nDownload (PDF\, 37KB) \n\nDownload (PDF\, 53KB) \n\nDownload (PDF\, 52KB) \n\nDownload (PDF\, 52KB)  \n 
URL:https://uscourttennis.org/event/2022-silver-racquet-ny-open-handicap-weekend/
LOCATION:Racquet & Tennis Club\, 370 Park Avenue\, New York\, NY\, United States
CATEGORIES:Amateur,Professional,Singles
ORGANIZER;CN="Barney Tanfield":MAILTO:tennis@rtcny.org
END:VEVENT
BEGIN:VEVENT
DTSTART;VALUE=DATE:20221103
DTEND;VALUE=DATE:20221107
DTSTAMP:20260423T093952
CREATED:20220907T152428Z
LAST-MODIFIED:20220907T152428Z
UID:25481-1667433600-1667779199@uscourttennis.org
SUMMARY:Westwood Court Opening
DESCRIPTION:
URL:https://uscourttennis.org/event/westwood-court-opening/
LOCATION:Westwood\, VA\, United States
CATEGORIES:Amateur,Doubles,International,Professional,USCTA Event
ORGANIZER;CN="Ivan Ronaldson":MAILTO:ivan@westwoodcc.com
END:VEVENT
BEGIN:VEVENT
DTSTART;VALUE=DATE:20221003
DTEND;VALUE=DATE:20221007
DTSTAMP:20260423T093952
CREATED:20220902T203333Z
LAST-MODIFIED:20221002T150509Z
UID:25464-1664755200-1665100799@uscourttennis.org
SUMMARY:2022 Below Zero
DESCRIPTION:Unfortunately\, Barney Tanfield\,  has had to withdraw injured from this event. The seedings have been adjusted in line with tournament policy. \n \n 
URL:https://uscourttennis.org/event/2022-below-zero/
LOCATION:Racquet & Tennis Club\, 370 Park Avenue\, New York\, NY\, United States
CATEGORIES:Professional,Singles
ORGANIZER;CN="Barney Tanfield":MAILTO:tennis@rtcny.org
END:VEVENT
BEGIN:VEVENT
DTSTART;VALUE=DATE:20220911
DTEND;VALUE=DATE:20220916
DTSTAMP:20260423T093952
CREATED:20220902T202313Z
LAST-MODIFIED:20220910T003656Z
UID:25456-1662854400-1663286399@uscourttennis.org
SUMMARY:2022 World Championship
DESCRIPTION:STREAMING LINK\nhttps://www.247.tv/247 \nThe matches will be listed individually there under “Upcoming”\n\nYou must register and then either buy individual matches (£15) or the 3 Day package (£35). \nPROGRAM – CLICK HERE
URL:https://uscourttennis.org/event/2022-world-championship/
LOCATION:Prested Hall\, United Kingdom
CATEGORIES:International,Professional,Singles
END:VEVENT
BEGIN:VEVENT
DTSTART;VALUE=DATE:20220818
DTEND;VALUE=DATE:20220823
DTSTAMP:20260423T093952
CREATED:20210805T165443Z
LAST-MODIFIED:20220821T121916Z
UID:23571-1660780800-1661212799@uscourttennis.org
SUMMARY:2022 Pell Cup
DESCRIPTION:Download (PDF\, 37KB) \n\nDownload (PDF\, 34KB) \n\nDownload (PDF\, 114KB)
URL:https://uscourttennis.org/event/2022-pell-cup/
LOCATION:National Tennis Club\, 194 Bellevue Avenue\, Newport\, RI\, 02840\, United States
CATEGORIES:Amateur,Doubles,Professional
ORGANIZER;CN="Mike Gooding":MAILTO:pros@nationaltennisclub.org
END:VEVENT
BEGIN:VEVENT
DTSTART;VALUE=DATE:20220604
DTEND;VALUE=DATE:20220612
DTSTAMP:20260423T093952
CREATED:20210805T164720Z
LAST-MODIFIED:20210805T164720Z
UID:23562-1654300800-1654991999@uscourttennis.org
SUMMARY:2022 U.S. Pro Singles playing for the Schochet Cup
DESCRIPTION:
URL:https://uscourttennis.org/event/2022-u-s-pro-singles-playing-for-the-schochet-cup/
LOCATION:National Tennis Club\, 194 Bellevue Avenue\, Newport\, RI\, 02840\, United States
CATEGORIES:Professional,Singles
ORGANIZER;CN="Mike Gooding":MAILTO:pros@nationaltennisclub.org
END:VEVENT
BEGIN:VEVENT
DTSTART;VALUE=DATE:20220524
DTEND;VALUE=DATE:20220602
DTSTAMP:20260423T093952
CREATED:20210805T164557Z
LAST-MODIFIED:20220425T200442Z
UID:23560-1653350400-1654127999@uscourttennis.org
SUMMARY:2022 U.S. Open
DESCRIPTION:National Championships in singles and doubles\n\nDownload (PDF\, 940KB)  \n\nDownload (PDF\, 1.51MB)
URL:https://uscourttennis.org/event/2022-u-s-open/
LOCATION:The Tuxedo Club\, 1 W Lake Rd\, Tuxedo Park\, NY\, 10987\, United States
CATEGORIES:Amateur,Doubles,Professional,Singles
ORGANIZER;CN="Tim Chisholm":MAILTO:TChisholm@thetuxedoclub.org
END:VEVENT
END:VCALENDAR