BEGIN:VCALENDAR
VERSION:2.0
PRODID:-//USCTA - ECPv6.15.20//NONSGML v1.0//EN
CALSCALE:GREGORIAN
METHOD:PUBLISH
X-ORIGINAL-URL:https://uscourttennis.org
X-WR-CALDESC:Events for USCTA
REFRESH-INTERVAL;VALUE=DURATION:PT1H
X-Robots-Tag:noindex
X-PUBLISHED-TTL:PT1H
BEGIN:VTIMEZONE
TZID:America/New_York
BEGIN:DAYLIGHT
TZOFFSETFROM:-0500
TZOFFSETTO:-0400
TZNAME:EDT
DTSTART:20240310T070000
END:DAYLIGHT
BEGIN:STANDARD
TZOFFSETFROM:-0400
TZOFFSETTO:-0500
TZNAME:EST
DTSTART:20241103T060000
END:STANDARD
BEGIN:DAYLIGHT
TZOFFSETFROM:-0500
TZOFFSETTO:-0400
TZNAME:EDT
DTSTART:20250309T070000
END:DAYLIGHT
BEGIN:STANDARD
TZOFFSETFROM:-0400
TZOFFSETTO:-0500
TZNAME:EST
DTSTART:20251102T060000
END:STANDARD
BEGIN:DAYLIGHT
TZOFFSETFROM:-0500
TZOFFSETTO:-0400
TZNAME:EDT
DTSTART:20260308T070000
END:DAYLIGHT
BEGIN:STANDARD
TZOFFSETFROM:-0400
TZOFFSETTO:-0500
TZNAME:EST
DTSTART:20261101T060000
END:STANDARD
BEGIN:DAYLIGHT
TZOFFSETFROM:-0500
TZOFFSETTO:-0400
TZNAME:EDT
DTSTART:20270314T070000
END:DAYLIGHT
BEGIN:STANDARD
TZOFFSETFROM:-0400
TZOFFSETTO:-0500
TZNAME:EST
DTSTART:20271107T060000
END:STANDARD
END:VTIMEZONE
BEGIN:VTIMEZONE
TZID:UTC
BEGIN:STANDARD
TZOFFSETFROM:+0000
TZOFFSETTO:+0000
TZNAME:UTC
DTSTART:20160101T000000
END:STANDARD
END:VTIMEZONE
BEGIN:VEVENT
DTSTART;VALUE=DATE:20260306
DTEND;VALUE=DATE:20260309
DTSTAMP:20260423T160304
CREATED:20250910T200048Z
LAST-MODIFIED:20260218T232214Z
UID:31199-1772755200-1773014399@uscourttennis.org
SUMMARY:2026 U.S. Ladies Open
DESCRIPTION:CLICK HERE TO VIEW THE 2026 U.S. LADIES DRAWS \nTournament Chair: Daniel Nagler – dbn71@aol.com \n\n\n\nThe Boston Tennis & Racquet Club is honored to host the 2026 U.S. Ladies Open.\n\n\n 
URL:https://uscourttennis.org/event/2026-u-s-ladies-open/
LOCATION:Tennis & Racquet Club\, 939 Boylston St\, Boston\, MA\, 02115\, United States
CATEGORIES:Amateur,Doubles,Ladies,Professional,Singles
END:VEVENT
BEGIN:VEVENT
DTSTART;VALUE=DATE:20251107
DTEND;VALUE=DATE:20251110
DTSTAMP:20260423T160304
CREATED:20250910T185824Z
LAST-MODIFIED:20251108T145102Z
UID:31162-1762473600-1762732799@uscourttennis.org
SUMMARY:2025 Anne Boleyn
DESCRIPTION:Download (PDF\, 154KB)
URL:https://uscourttennis.org/event/2025-anne-boleyn/
LOCATION:Westwood\, VA\, United States
CATEGORIES:Amateur,Ladies,Singles
ORGANIZER;CN="Ben Taylor-Matthews":MAILTO:ben@westwoodcc.com
END:VEVENT
BEGIN:VEVENT
DTSTART;VALUE=DATE:20250523
DTEND;VALUE=DATE:20250601
DTSTAMP:20260423T160304
CREATED:20241027T162920Z
LAST-MODIFIED:20250401T002823Z
UID:29417-1747958400-1748735999@uscourttennis.org
SUMMARY:2025 Ladies World Championship
DESCRIPTION:
URL:https://uscourttennis.org/event/2025-ladies-world-championship/
LOCATION:National Tennis Club\, 194 Bellevue Avenue\, Newport\, RI\, 02840\, United States
CATEGORIES:Doubles,Ladies,Singles
ORGANIZER;CN="Tony Hollins":MAILTO:thollins@tennisfame.com
END:VEVENT
BEGIN:VEVENT
DTSTART;VALUE=DATE:20250502
DTEND;VALUE=DATE:20250505
DTSTAMP:20260423T160304
CREATED:20241027T162815Z
LAST-MODIFIED:20250505T200016Z
UID:29415-1746144000-1746403199@uscourttennis.org
SUMMARY:2025 US Women's National Amateur Championship
DESCRIPTION:Download (PDF\, 383KB)  \nNational singles championship for US-based women players
URL:https://uscourttennis.org/event/2025-us-womens-national-amateur-championship/
LOCATION:Westwood\, VA\, United States
CATEGORIES:Amateur,Ladies,Singles
ORGANIZER;CN="Ivan Ronaldson":MAILTO:ivan@westwoodcc.com
END:VEVENT
BEGIN:VEVENT
DTSTART;VALUE=DATE:20170303
DTEND;VALUE=DATE:20170306
DTSTAMP:20260423T160304
CREATED:20161220T042354Z
LAST-MODIFIED:20170130T223248Z
UID:7249-1488499200-1488758399@uscourttennis.org
SUMMARY:Ladies Invitational
DESCRIPTION:Download (PDF\, 121KB)
URL:https://uscourttennis.org/event/ladies-invitational-3/
LOCATION:Prince’s Court\, 1800 Old Meadow Road\, McLean\, VA\, 22101\, United States
CATEGORIES:Amateur,Ladies,Singles
ORGANIZER;CN="Ivan Ronaldson":MAILTO:ivan@westwoodcc.com
END:VEVENT
BEGIN:VEVENT
DTSTART;VALUE=DATE:20170303
DTEND;VALUE=DATE:20170306
DTSTAMP:20260423T160304
CREATED:20161220T042354Z
LAST-MODIFIED:20170130T223248Z
UID:7249-1488499200-1488758399@uscourttennis.org
SUMMARY:Ladies Invitational
DESCRIPTION:Download (PDF\, 121KB)
URL:https://uscourttennis.org/event/ladies-invitational-3/
LOCATION:Prince’s Court\, 1800 Old Meadow Road\, McLean\, VA\, 22101\, United States
CATEGORIES:Amateur,Ladies,Singles
ORGANIZER;CN="Ivan Ronaldson":MAILTO:ivan@westwoodcc.com
END:VEVENT
BEGIN:VEVENT
DTSTART;VALUE=DATE:20170303
DTEND;VALUE=DATE:20170306
DTSTAMP:20260423T160304
CREATED:20161220T042354Z
LAST-MODIFIED:20170130T223248Z
UID:7249-1488499200-1488758399@uscourttennis.org
SUMMARY:Ladies Invitational
DESCRIPTION:Download (PDF\, 121KB)
URL:https://uscourttennis.org/event/ladies-invitational-3/
LOCATION:Prince’s Court\, 1800 Old Meadow Road\, McLean\, VA\, 22101\, United States
CATEGORIES:Amateur,Ladies,Singles
ORGANIZER;CN="Ivan Ronaldson":MAILTO:ivan@westwoodcc.com
END:VEVENT
BEGIN:VEVENT
DTSTART;VALUE=DATE:20170303
DTEND;VALUE=DATE:20170306
DTSTAMP:20260423T160304
CREATED:20161220T042354Z
LAST-MODIFIED:20170130T223248Z
UID:7249-1488499200-1488758399@uscourttennis.org
SUMMARY:Ladies Invitational
DESCRIPTION:Download (PDF\, 121KB)
URL:https://uscourttennis.org/event/ladies-invitational-3/
LOCATION:Prince’s Court\, 1800 Old Meadow Road\, McLean\, VA\, 22101\, United States
CATEGORIES:Amateur,Ladies,Singles
ORGANIZER;CN="Ivan Ronaldson":MAILTO:ivan@westwoodcc.com
END:VEVENT
BEGIN:VEVENT
DTSTART;VALUE=DATE:20170303
DTEND;VALUE=DATE:20170306
DTSTAMP:20260423T160304
CREATED:20161220T042354Z
LAST-MODIFIED:20170130T223248Z
UID:7249-1488499200-1488758399@uscourttennis.org
SUMMARY:Ladies Invitational
DESCRIPTION:Download (PDF\, 121KB)
URL:https://uscourttennis.org/event/ladies-invitational-3/
LOCATION:Prince’s Court\, 1800 Old Meadow Road\, McLean\, VA\, 22101\, United States
CATEGORIES:Amateur,Ladies,Singles
ORGANIZER;CN="Ivan Ronaldson":MAILTO:ivan@westwoodcc.com
END:VEVENT
BEGIN:VEVENT
DTSTART;VALUE=DATE:20170303
DTEND;VALUE=DATE:20170306
DTSTAMP:20260423T160304
CREATED:20161220T042354Z
LAST-MODIFIED:20170130T223248Z
UID:7249-1488499200-1488758399@uscourttennis.org
SUMMARY:Ladies Invitational
DESCRIPTION:Download (PDF\, 121KB)
URL:https://uscourttennis.org/event/ladies-invitational-3/
LOCATION:Prince’s Court\, 1800 Old Meadow Road\, McLean\, VA\, 22101\, United States
CATEGORIES:Amateur,Ladies,Singles
ORGANIZER;CN="Ivan Ronaldson":MAILTO:ivan@westwoodcc.com
END:VEVENT
BEGIN:VEVENT
DTSTART;VALUE=DATE:20170303
DTEND;VALUE=DATE:20170306
DTSTAMP:20260423T160304
CREATED:20161220T042354Z
LAST-MODIFIED:20170130T223248Z
UID:7249-1488499200-1488758399@uscourttennis.org
SUMMARY:Ladies Invitational
DESCRIPTION:Download (PDF\, 121KB)
URL:https://uscourttennis.org/event/ladies-invitational-3/
LOCATION:Prince’s Court\, 1800 Old Meadow Road\, McLean\, VA\, 22101\, United States
CATEGORIES:Amateur,Ladies,Singles
ORGANIZER;CN="Ivan Ronaldson":MAILTO:ivan@westwoodcc.com
END:VEVENT
BEGIN:VEVENT
DTSTART;VALUE=DATE:20170303
DTEND;VALUE=DATE:20170306
DTSTAMP:20260423T160304
CREATED:20161220T042354Z
LAST-MODIFIED:20170130T223248Z
UID:7249-1488499200-1488758399@uscourttennis.org
SUMMARY:Ladies Invitational
DESCRIPTION:Download (PDF\, 121KB)
URL:https://uscourttennis.org/event/ladies-invitational-3/
LOCATION:Prince’s Court\, 1800 Old Meadow Road\, McLean\, VA\, 22101\, United States
CATEGORIES:Amateur,Ladies,Singles
ORGANIZER;CN="Ivan Ronaldson":MAILTO:ivan@westwoodcc.com
END:VEVENT
BEGIN:VEVENT
DTSTART;VALUE=DATE:20170303
DTEND;VALUE=DATE:20170306
DTSTAMP:20260423T160304
CREATED:20161220T042354Z
LAST-MODIFIED:20170130T223248Z
UID:7249-1488499200-1488758399@uscourttennis.org
SUMMARY:Ladies Invitational
DESCRIPTION:Download (PDF\, 121KB)
URL:https://uscourttennis.org/event/ladies-invitational-3/
LOCATION:Prince’s Court\, 1800 Old Meadow Road\, McLean\, VA\, 22101\, United States
CATEGORIES:Amateur,Ladies,Singles
ORGANIZER;CN="Ivan Ronaldson":MAILTO:ivan@westwoodcc.com
END:VEVENT
BEGIN:VEVENT
DTSTART;VALUE=DATE:20170303
DTEND;VALUE=DATE:20170306
DTSTAMP:20260423T160304
CREATED:20161220T042354Z
LAST-MODIFIED:20170130T223248Z
UID:7249-1488499200-1488758399@uscourttennis.org
SUMMARY:Ladies Invitational
DESCRIPTION:Download (PDF\, 121KB)
URL:https://uscourttennis.org/event/ladies-invitational-3/
LOCATION:Prince’s Court\, 1800 Old Meadow Road\, McLean\, VA\, 22101\, United States
CATEGORIES:Amateur,Ladies,Singles
ORGANIZER;CN="Ivan Ronaldson":MAILTO:ivan@westwoodcc.com
END:VEVENT
BEGIN:VEVENT
DTSTART;VALUE=DATE:20170303
DTEND;VALUE=DATE:20170306
DTSTAMP:20260423T160304
CREATED:20161220T042354Z
LAST-MODIFIED:20170130T223248Z
UID:7249-1488499200-1488758399@uscourttennis.org
SUMMARY:Ladies Invitational
DESCRIPTION:Download (PDF\, 121KB)
URL:https://uscourttennis.org/event/ladies-invitational-3/
LOCATION:Prince’s Court\, 1800 Old Meadow Road\, McLean\, VA\, 22101\, United States
CATEGORIES:Amateur,Ladies,Singles
ORGANIZER;CN="Ivan Ronaldson":MAILTO:ivan@westwoodcc.com
END:VEVENT
BEGIN:VEVENT
DTSTART;VALUE=DATE:20170303
DTEND;VALUE=DATE:20170306
DTSTAMP:20260423T160304
CREATED:20161220T042354Z
LAST-MODIFIED:20170130T223248Z
UID:7249-1488499200-1488758399@uscourttennis.org
SUMMARY:Ladies Invitational
DESCRIPTION:Download (PDF\, 121KB)
URL:https://uscourttennis.org/event/ladies-invitational-3/
LOCATION:Prince’s Court\, 1800 Old Meadow Road\, McLean\, VA\, 22101\, United States
CATEGORIES:Amateur,Ladies,Singles
ORGANIZER;CN="Ivan Ronaldson":MAILTO:ivan@westwoodcc.com
END:VEVENT
BEGIN:VEVENT
DTSTART;VALUE=DATE:20170303
DTEND;VALUE=DATE:20170306
DTSTAMP:20260423T160304
CREATED:20161220T042354Z
LAST-MODIFIED:20170130T223248Z
UID:7249-1488499200-1488758399@uscourttennis.org
SUMMARY:Ladies Invitational
DESCRIPTION:Download (PDF\, 121KB)
URL:https://uscourttennis.org/event/ladies-invitational-3/
LOCATION:Prince’s Court\, 1800 Old Meadow Road\, McLean\, VA\, 22101\, United States
CATEGORIES:Amateur,Ladies,Singles
ORGANIZER;CN="Ivan Ronaldson":MAILTO:ivan@westwoodcc.com
END:VEVENT
BEGIN:VEVENT
DTSTART;VALUE=DATE:20170303
DTEND;VALUE=DATE:20170306
DTSTAMP:20260423T160304
CREATED:20161220T042354Z
LAST-MODIFIED:20170130T223248Z
UID:7249-1488499200-1488758399@uscourttennis.org
SUMMARY:Ladies Invitational
DESCRIPTION:Download (PDF\, 121KB)
URL:https://uscourttennis.org/event/ladies-invitational-3/
LOCATION:Prince’s Court\, 1800 Old Meadow Road\, McLean\, VA\, 22101\, United States
CATEGORIES:Amateur,Ladies,Singles
ORGANIZER;CN="Ivan Ronaldson":MAILTO:ivan@westwoodcc.com
END:VEVENT
BEGIN:VEVENT
DTSTART;VALUE=DATE:20170303
DTEND;VALUE=DATE:20170306
DTSTAMP:20260423T160304
CREATED:20161220T042354Z
LAST-MODIFIED:20170130T223248Z
UID:7249-1488499200-1488758399@uscourttennis.org
SUMMARY:Ladies Invitational
DESCRIPTION:Download (PDF\, 121KB)
URL:https://uscourttennis.org/event/ladies-invitational-3/
LOCATION:Prince’s Court\, 1800 Old Meadow Road\, McLean\, VA\, 22101\, United States
CATEGORIES:Amateur,Ladies,Singles
ORGANIZER;CN="Ivan Ronaldson":MAILTO:ivan@westwoodcc.com
END:VEVENT
BEGIN:VEVENT
DTSTART;VALUE=DATE:20170303
DTEND;VALUE=DATE:20170306
DTSTAMP:20260423T160304
CREATED:20161220T042354Z
LAST-MODIFIED:20170130T223248Z
UID:7249-1488499200-1488758399@uscourttennis.org
SUMMARY:Ladies Invitational
DESCRIPTION:Download (PDF\, 121KB)
URL:https://uscourttennis.org/event/ladies-invitational-3/
LOCATION:Prince’s Court\, 1800 Old Meadow Road\, McLean\, VA\, 22101\, United States
CATEGORIES:Amateur,Ladies,Singles
ORGANIZER;CN="Ivan Ronaldson":MAILTO:ivan@westwoodcc.com
END:VEVENT
BEGIN:VEVENT
DTSTART;VALUE=DATE:20170303
DTEND;VALUE=DATE:20170306
DTSTAMP:20260423T160304
CREATED:20161220T042354Z
LAST-MODIFIED:20170130T223248Z
UID:7249-1488499200-1488758399@uscourttennis.org
SUMMARY:Ladies Invitational
DESCRIPTION:Download (PDF\, 121KB)
URL:https://uscourttennis.org/event/ladies-invitational-3/
LOCATION:Prince’s Court\, 1800 Old Meadow Road\, McLean\, VA\, 22101\, United States
CATEGORIES:Amateur,Ladies,Singles
ORGANIZER;CN="Ivan Ronaldson":MAILTO:ivan@westwoodcc.com
END:VEVENT
BEGIN:VEVENT
DTSTART;VALUE=DATE:20170303
DTEND;VALUE=DATE:20170306
DTSTAMP:20260423T160304
CREATED:20161220T042354Z
LAST-MODIFIED:20170130T223248Z
UID:7249-1488499200-1488758399@uscourttennis.org
SUMMARY:Ladies Invitational
DESCRIPTION:Download (PDF\, 121KB)
URL:https://uscourttennis.org/event/ladies-invitational-3/
LOCATION:Prince’s Court\, 1800 Old Meadow Road\, McLean\, VA\, 22101\, United States
CATEGORIES:Amateur,Ladies,Singles
ORGANIZER;CN="Ivan Ronaldson":MAILTO:ivan@westwoodcc.com
END:VEVENT
BEGIN:VEVENT
DTSTART;VALUE=DATE:20170303
DTEND;VALUE=DATE:20170306
DTSTAMP:20260423T160304
CREATED:20161220T042354Z
LAST-MODIFIED:20170130T223248Z
UID:7249-1488499200-1488758399@uscourttennis.org
SUMMARY:Ladies Invitational
DESCRIPTION:Download (PDF\, 121KB)
URL:https://uscourttennis.org/event/ladies-invitational-3/
LOCATION:Prince’s Court\, 1800 Old Meadow Road\, McLean\, VA\, 22101\, United States
CATEGORIES:Amateur,Ladies,Singles
ORGANIZER;CN="Ivan Ronaldson":MAILTO:ivan@westwoodcc.com
END:VEVENT
BEGIN:VEVENT
DTSTART;VALUE=DATE:20170303
DTEND;VALUE=DATE:20170306
DTSTAMP:20260423T160304
CREATED:20161220T042354Z
LAST-MODIFIED:20170130T223248Z
UID:7249-1488499200-1488758399@uscourttennis.org
SUMMARY:Ladies Invitational
DESCRIPTION:Download (PDF\, 121KB)
URL:https://uscourttennis.org/event/ladies-invitational-3/
LOCATION:Prince’s Court\, 1800 Old Meadow Road\, McLean\, VA\, 22101\, United States
CATEGORIES:Amateur,Ladies,Singles
ORGANIZER;CN="Ivan Ronaldson":MAILTO:ivan@westwoodcc.com
END:VEVENT
BEGIN:VEVENT
DTSTART;VALUE=DATE:20170303
DTEND;VALUE=DATE:20170306
DTSTAMP:20260423T160304
CREATED:20161220T042354Z
LAST-MODIFIED:20170130T223248Z
UID:7249-1488499200-1488758399@uscourttennis.org
SUMMARY:Ladies Invitational
DESCRIPTION:Download (PDF\, 121KB)
URL:https://uscourttennis.org/event/ladies-invitational-3/
LOCATION:Prince’s Court\, 1800 Old Meadow Road\, McLean\, VA\, 22101\, United States
CATEGORIES:Amateur,Ladies,Singles
ORGANIZER;CN="Ivan Ronaldson":MAILTO:ivan@westwoodcc.com
END:VEVENT
BEGIN:VEVENT
DTSTART;VALUE=DATE:20170303
DTEND;VALUE=DATE:20170306
DTSTAMP:20260423T160304
CREATED:20161220T042354Z
LAST-MODIFIED:20170130T223248Z
UID:7249-1488499200-1488758399@uscourttennis.org
SUMMARY:Ladies Invitational
DESCRIPTION:Download (PDF\, 121KB)
URL:https://uscourttennis.org/event/ladies-invitational-3/
LOCATION:Prince’s Court\, 1800 Old Meadow Road\, McLean\, VA\, 22101\, United States
CATEGORIES:Amateur,Ladies,Singles
ORGANIZER;CN="Ivan Ronaldson":MAILTO:ivan@westwoodcc.com
END:VEVENT
BEGIN:VEVENT
DTSTART;VALUE=DATE:20170303
DTEND;VALUE=DATE:20170306
DTSTAMP:20260423T160304
CREATED:20161220T042354Z
LAST-MODIFIED:20170130T223248Z
UID:7249-1488499200-1488758399@uscourttennis.org
SUMMARY:Ladies Invitational
DESCRIPTION:Download (PDF\, 121KB)
URL:https://uscourttennis.org/event/ladies-invitational-3/
LOCATION:Prince’s Court\, 1800 Old Meadow Road\, McLean\, VA\, 22101\, United States
CATEGORIES:Amateur,Ladies,Singles
ORGANIZER;CN="Ivan Ronaldson":MAILTO:ivan@westwoodcc.com
END:VEVENT
BEGIN:VEVENT
DTSTART;VALUE=DATE:20170303
DTEND;VALUE=DATE:20170306
DTSTAMP:20260423T160304
CREATED:20161220T042354Z
LAST-MODIFIED:20170130T223248Z
UID:7249-1488499200-1488758399@uscourttennis.org
SUMMARY:Ladies Invitational
DESCRIPTION:Download (PDF\, 121KB)
URL:https://uscourttennis.org/event/ladies-invitational-3/
LOCATION:Prince’s Court\, 1800 Old Meadow Road\, McLean\, VA\, 22101\, United States
CATEGORIES:Amateur,Ladies,Singles
ORGANIZER;CN="Ivan Ronaldson":MAILTO:ivan@westwoodcc.com
END:VEVENT
BEGIN:VEVENT
DTSTART;VALUE=DATE:20170303
DTEND;VALUE=DATE:20170306
DTSTAMP:20260423T160304
CREATED:20161220T042354Z
LAST-MODIFIED:20170130T223248Z
UID:7249-1488499200-1488758399@uscourttennis.org
SUMMARY:Ladies Invitational
DESCRIPTION:Download (PDF\, 121KB)
URL:https://uscourttennis.org/event/ladies-invitational-3/
LOCATION:Prince’s Court\, 1800 Old Meadow Road\, McLean\, VA\, 22101\, United States
CATEGORIES:Amateur,Ladies,Singles
ORGANIZER;CN="Ivan Ronaldson":MAILTO:ivan@westwoodcc.com
END:VEVENT
BEGIN:VEVENT
DTSTART;VALUE=DATE:20170303
DTEND;VALUE=DATE:20170306
DTSTAMP:20260423T160304
CREATED:20161220T042354Z
LAST-MODIFIED:20170130T223248Z
UID:7249-1488499200-1488758399@uscourttennis.org
SUMMARY:Ladies Invitational
DESCRIPTION:Download (PDF\, 121KB)
URL:https://uscourttennis.org/event/ladies-invitational-3/
LOCATION:Prince’s Court\, 1800 Old Meadow Road\, McLean\, VA\, 22101\, United States
CATEGORIES:Amateur,Ladies,Singles
ORGANIZER;CN="Ivan Ronaldson":MAILTO:ivan@westwoodcc.com
END:VEVENT
END:VCALENDAR