BEGIN:VCALENDAR
VERSION:2.0
PRODID:-//USCTA - ECPv6.15.20//NONSGML v1.0//EN
CALSCALE:GREGORIAN
METHOD:PUBLISH
X-WR-CALNAME:USCTA
X-ORIGINAL-URL:https://uscourttennis.org
X-WR-CALDESC:Events for USCTA
REFRESH-INTERVAL;VALUE=DURATION:PT1H
X-Robots-Tag:noindex
X-PUBLISHED-TTL:PT1H
BEGIN:VTIMEZONE
TZID:UTC
BEGIN:STANDARD
TZOFFSETFROM:+0000
TZOFFSETTO:+0000
TZNAME:UTC
DTSTART:20150101T000000
END:STANDARD
END:VTIMEZONE
BEGIN:VTIMEZONE
TZID:America/New_York
BEGIN:DAYLIGHT
TZOFFSETFROM:-0500
TZOFFSETTO:-0400
TZNAME:EDT
DTSTART:20140309T070000
END:DAYLIGHT
BEGIN:STANDARD
TZOFFSETFROM:-0400
TZOFFSETTO:-0500
TZNAME:EST
DTSTART:20141102T060000
END:STANDARD
BEGIN:DAYLIGHT
TZOFFSETFROM:-0500
TZOFFSETTO:-0400
TZNAME:EDT
DTSTART:20150308T070000
END:DAYLIGHT
BEGIN:STANDARD
TZOFFSETFROM:-0400
TZOFFSETTO:-0500
TZNAME:EST
DTSTART:20151101T060000
END:STANDARD
BEGIN:DAYLIGHT
TZOFFSETFROM:-0500
TZOFFSETTO:-0400
TZNAME:EDT
DTSTART:20160313T070000
END:DAYLIGHT
BEGIN:STANDARD
TZOFFSETFROM:-0400
TZOFFSETTO:-0500
TZNAME:EST
DTSTART:20161106T060000
END:STANDARD
END:VTIMEZONE
BEGIN:VEVENT
DTSTART;VALUE=DATE:20180112
DTEND;VALUE=DATE:20180115
DTSTAMP:20260423T144223
CREATED:20170923T200152Z
LAST-MODIFIED:20170923T200152Z
UID:8637-1515715200-1515974399@uscourttennis.org
SUMMARY:Junior Handicap
DESCRIPTION:Handicap event for players under the age of 19
URL:https://uscourttennis.org/event/junior-handicap-2/
LOCATION:Racquet Club of Philadelphia\, 215 S 16th Street\, Philadelphia\, PA\, 19102\, United States
CATEGORIES:Amateur,Juniors
ORGANIZER;CN="Rob Whitehouse":MAILTO:courts@rcop.com
END:VEVENT
BEGIN:VEVENT
DTSTART;VALUE=DATE:20170721
DTEND;VALUE=DATE:20170724
DTSTAMP:20260423T144223
CREATED:20170210T070516Z
LAST-MODIFIED:20170628T053048Z
UID:7628-1500595200-1500854399@uscourttennis.org
SUMMARY:U.S. Junior Nationals - U19\, U17\, U15\, U13
DESCRIPTION:Download (DOCX\, 101KB)
URL:https://uscourttennis.org/event/u-s-junior-nationals-u19-u17-u15-u13-2/
LOCATION:The Tuxedo Club\, 1 W Lake Rd\, Tuxedo Park\, NY\, 10987\, United States
CATEGORIES:Juniors,Singles
ORGANIZER;CN="Tim Chisholm":MAILTO:TChisholm@thetuxedoclub.org
END:VEVENT
BEGIN:VEVENT
DTSTART;VALUE=DATE:20170717
DTEND;VALUE=DATE:20170722
DTSTAMP:20260423T144223
CREATED:20170210T070401Z
LAST-MODIFIED:20170701T021715Z
UID:7626-1500249600-1500681599@uscourttennis.org
SUMMARY:Junior Court Tennis Academy
DESCRIPTION:The U.S. Court Tennis Preservation Foundation (USCTPF) and the United States Court Tennis Association (USCTA) have once again selected The Tuxedo Club for a one of a kind junior court tennis academy. Court Tennis Champion Tim Chisholm will head up the USCTPF and USCTA sponsored Court Tennis Academy for one week this summer at The Tuxedo Club. This academy was a hit last year and we look to build on the momentum!  The week is designed for juniors ages 11-17. Beginner and experienced players from The Tuxedo Club as well as from Clubs throughout the US are invited to participate.\n\nIn collaboration with the USCTA/USCTPF Player Development Fund\, we can offer this camp for $500 per camper. This fee includes the following:\n\n5 Days of Court Tennis Academy run by Tim Chisholm\nAll meals for July 17th – 21st\nHousing for 4 evenings (Monday-Thursday)…those playing in the Junior Nationals will be housed for the weekend as well.\n\nAlso\, a reminder that the U.S. Junior Nationals will be held at The Tuxedo Club on July 21st – 23rd …. what a great way to prepare for the National Championships!\n\nContact Tim Chisholm\, tchisholm@thetuxedoclub.org for more information\, and to reserve your spot.
URL:https://uscourttennis.org/event/junior-court-tennis-academy/
LOCATION:The Tuxedo Club\, 1 W Lake Rd\, Tuxedo Park\, NY\, 10987\, United States
CATEGORIES:Juniors
ORGANIZER;CN="Tim Chisholm":MAILTO:TChisholm@thetuxedoclub.org
END:VEVENT
BEGIN:VEVENT
DTSTART;VALUE=DATE:20170710
DTEND;VALUE=DATE:20170717
DTSTAMP:20260423T144223
CREATED:20170210T070252Z
LAST-MODIFIED:20170711T171649Z
UID:7624-1499644800-1500249599@uscourttennis.org
SUMMARY:Van Alen\, Clothier\, Limb Cups
DESCRIPTION:Click here to go to our Van Alen\, Clothier and Limb Cup tournament page. \nInternational team competitions for players under 26 years
URL:https://uscourttennis.org/event/van-alen-clothier-lieb-cups/
LOCATION:Tennis & Racquet Club\, 939 Boylston St\, Boston\, MA\, 02115\, United States
CATEGORIES:International,Juniors
ORGANIZER;CN="Tony Hollins":MAILTO:thollins@tennisfame.com
END:VEVENT
BEGIN:VEVENT
DTSTART;VALUE=DATE:20170707
DTEND;VALUE=DATE:20170710
DTSTAMP:20260423T144223
CREATED:20170210T070146Z
LAST-MODIFIED:20170603T002526Z
UID:7622-1499385600-1499644799@uscourttennis.org
SUMMARY:U.S. Junior Nationals U23\, U26
DESCRIPTION:Download (PDF\, 2.32MB)
URL:https://uscourttennis.org/event/u-s-junior-nationals-u23-u26/
LOCATION:Racquet Club of Philadelphia\, 215 S 16th Street\, Philadelphia\, PA\, 19102\, United States
CATEGORIES:Juniors,Singles
ORGANIZER;CN="Rob Whitehouse":MAILTO:courts@rcop.com
END:VEVENT
BEGIN:VEVENT
DTSTART;TZID=UTC:20170222T110000
DTEND;TZID=UTC:20170223T173000
DTSTAMP:20260423T144223
CREATED:20170205T022332Z
LAST-MODIFIED:20170205T023209Z
UID:7509-1487761200-1487871000@uscourttennis.org
SUMMARY:Georgian Court Open Play Day
DESCRIPTION:Download (PDF\, 186KB)
URL:https://uscourttennis.org/event/georgian-court-open-play-day/
LOCATION:Georgian Court\, Lakewood\, NJ\, United States
CATEGORIES:Amateur,Juniors,Ladies,Other
ORGANIZER;CN="Camden Riviere":MAILTO:camden@nationaltennisclub.org
END:VEVENT
BEGIN:VEVENT
DTSTART;VALUE=DATE:20170113
DTEND;VALUE=DATE:20170116
DTSTAMP:20260423T144223
CREATED:20161220T041548Z
LAST-MODIFIED:20170101T005559Z
UID:7231-1484265600-1484524799@uscourttennis.org
SUMMARY:Junior Handicap
DESCRIPTION:Download (PDF\, 117KB)
URL:https://uscourttennis.org/event/junior-handicap/
LOCATION:Prince’s Court\, 1800 Old Meadow Road\, McLean\, VA\, 22101\, United States
CATEGORIES:Juniors
ORGANIZER;CN="Ivan Ronaldson":MAILTO:ivan@westwoodcc.com
END:VEVENT
BEGIN:VEVENT
DTSTART;VALUE=DATE:20161007
DTEND;VALUE=DATE:20161010
DTSTAMP:20260423T144223
CREATED:20160915T195349Z
LAST-MODIFIED:20160920T175509Z
UID:6757-1475798400-1476057599@uscourttennis.org
SUMMARY:Lieb Cup
DESCRIPTION:Download (PDF\, 74KB)
URL:https://uscourttennis.org/event/lieb-cup/
LOCATION:National Tennis Club\, 194 Bellevue Avenue\, Newport\, RI\, 02840\, United States
CATEGORIES:Doubles,Juniors
ORGANIZER;CN="Camden Riviere":MAILTO:camden@nationaltennisclub.org
END:VEVENT
BEGIN:VEVENT
DTSTART;VALUE=DATE:20160722
DTEND;VALUE=DATE:20160725
DTSTAMP:20260423T144223
CREATED:20160613T164618Z
LAST-MODIFIED:20160620T031235Z
UID:6523-1469145600-1469404799@uscourttennis.org
SUMMARY:U19\, U17\, U15\, U13 National Singles
DESCRIPTION:Download (DOCX\, 98KB)
URL:https://uscourttennis.org/event/u19-u17-u15-u13-national-singles/
LOCATION:The Tuxedo Club\, 1 W Lake Rd\, Tuxedo Park\, NY\, 10987\, United States
CATEGORIES:Amateur,Juniors,Singles
ORGANIZER;CN="Tim Chisholm":MAILTO:TChisholm@thetuxedoclub.org
END:VEVENT
BEGIN:VEVENT
DTSTART;TZID=UTC:20160520T080000
DTEND;TZID=UTC:20160522T170000
DTSTAMP:20260423T144223
CREATED:20160426T025957Z
LAST-MODIFIED:20160426T030031Z
UID:6329-1463731200-1463936400@uscourttennis.org
SUMMARY:U.S. U23\, U26 Singles & Doubles
DESCRIPTION:Download (PDF\, 200KB)
URL:https://uscourttennis.org/event/u-s-u23-u26-singles-doubles/
LOCATION:Racquet Club of Philadelphia\, 215 S 16th Street\, Philadelphia\, PA\, 19102\, United States
CATEGORIES:Doubles,Juniors,Singles,USCTA Event
ORGANIZER;CN="Rob Whitehouse":MAILTO:courts@rcop.com
END:VEVENT
BEGIN:VEVENT
DTSTART;TZID=UTC:20160115T080000
DTEND;TZID=UTC:20160117T170000
DTSTAMP:20260423T144223
CREATED:20151205T023942Z
LAST-MODIFIED:20151205T024023Z
UID:5553-1452844800-1453050000@uscourttennis.org
SUMMARY:U19 Junior Handicap
DESCRIPTION:Download (PDF\, 86KB)
URL:https://uscourttennis.org/event/u19-junior-handicap/
LOCATION:National Tennis Club\, 194 Bellevue Avenue\, Newport\, RI\, 02840\, United States
CATEGORIES:Juniors
ORGANIZER;CN="Camden Riviere":MAILTO:camden@nationaltennisclub.org
END:VEVENT
BEGIN:VEVENT
DTSTART;VALUE=DATE:20151009
DTEND;VALUE=DATE:20151012
DTSTAMP:20260423T144224
CREATED:20150829T235940Z
LAST-MODIFIED:20151001T214930Z
UID:5228-1444348800-1444607999@uscourttennis.org
SUMMARY:U.S. Junior Nationals (U19\, U17\, U15\, U13 Doubles) / Lieb Cup
DESCRIPTION:Download (PDF\, 82KB)
URL:https://uscourttennis.org/event/u-s-junior-nationals-u19-u17-u15-u13-doubles-lieb-cup/
LOCATION:Prince’s Court\, 1800 Old Meadow Road\, McLean\, VA\, 22101\, United States
CATEGORIES:Juniors
ORGANIZER;CN="Ivan Ronaldson":MAILTO:ivan@westwoodcc.com
END:VEVENT
BEGIN:VEVENT
DTSTART;VALUE=DATE:20150724
DTEND;VALUE=DATE:20150727
DTSTAMP:20260423T144224
CREATED:20141021T025052Z
LAST-MODIFIED:20150520T162742Z
UID:2278-1437696000-1437955199@uscourttennis.org
SUMMARY:U.S. Junior Nationals (U19\, U17\, U15\, U13)
DESCRIPTION:Under 19\, Under 17\, Under 15\, Under 13 – \n\nDownload (DOCX\, 164KB)  Singles
URL:https://uscourttennis.org/event/u-s-junior-nationals-u19-u17-u15-u13/
LOCATION:National Tennis Club\, 194 Bellevue Avenue\, Newport\, RI\, 02840\, United States
CATEGORIES:Juniors,Singles
ORGANIZER;CN="Nick Howell":MAILTO:nick@nationaltennisclub.org
END:VEVENT
BEGIN:VEVENT
DTSTART;VALUE=DATE:20150515
DTEND;VALUE=DATE:20150518
DTSTAMP:20260423T144224
CREATED:20141021T024040Z
LAST-MODIFIED:20150415T174004Z
UID:2273-1431648000-1431907199@uscourttennis.org
SUMMARY:U.S. Junior Nationals U26 & U23
DESCRIPTION:The entry form is now available. \n\nDownload (PDF\, 123KB)
URL:https://uscourttennis.org/event/u-s-junior-nationals/
LOCATION:The Tuxedo Club\, 1 W Lake Rd\, Tuxedo Park\, NY\, 10987\, United States
CATEGORIES:Juniors
ORGANIZER;CN="Tim Chisholm":MAILTO:TChisholm@thetuxedoclub.org
END:VEVENT
BEGIN:VEVENT
DTSTART;VALUE=DATE:20150228
DTEND;VALUE=DATE:20150302
DTSTAMP:20260423T144224
CREATED:20141229T213729Z
LAST-MODIFIED:20141230T072144Z
UID:3975-1425081600-1425254399@uscourttennis.org
SUMMARY:Junior Handicap Tournament
DESCRIPTION:Download (DOC\, 73KB)
URL:https://uscourttennis.org/event/3975/
LOCATION:Racquet Club of Philadelphia\, 215 S 16th Street\, Philadelphia\, PA\, 19102\, United States
CATEGORIES:Juniors
ORGANIZER;CN="John Lumley":MAILTO:tennis@rcop.com
END:VEVENT
END:VCALENDAR