BEGIN:VCALENDAR
VERSION:2.0
PRODID:-//USCTA - ECPv6.15.20//NONSGML v1.0//EN
CALSCALE:GREGORIAN
METHOD:PUBLISH
X-ORIGINAL-URL:https://uscourttennis.org
X-WR-CALDESC:Events for USCTA
REFRESH-INTERVAL;VALUE=DURATION:PT1H
X-Robots-Tag:noindex
X-PUBLISHED-TTL:PT1H
BEGIN:VTIMEZONE
TZID:America/New_York
BEGIN:DAYLIGHT
TZOFFSETFROM:-0500
TZOFFSETTO:-0400
TZNAME:EDT
DTSTART:20200308T070000
END:DAYLIGHT
BEGIN:STANDARD
TZOFFSETFROM:-0400
TZOFFSETTO:-0500
TZNAME:EST
DTSTART:20201101T060000
END:STANDARD
BEGIN:DAYLIGHT
TZOFFSETFROM:-0500
TZOFFSETTO:-0400
TZNAME:EDT
DTSTART:20210314T070000
END:DAYLIGHT
BEGIN:STANDARD
TZOFFSETFROM:-0400
TZOFFSETTO:-0500
TZNAME:EST
DTSTART:20211107T060000
END:STANDARD
BEGIN:DAYLIGHT
TZOFFSETFROM:-0500
TZOFFSETTO:-0400
TZNAME:EDT
DTSTART:20220313T070000
END:DAYLIGHT
BEGIN:STANDARD
TZOFFSETFROM:-0400
TZOFFSETTO:-0500
TZNAME:EST
DTSTART:20221106T060000
END:STANDARD
BEGIN:DAYLIGHT
TZOFFSETFROM:-0500
TZOFFSETTO:-0400
TZNAME:EDT
DTSTART:20230312T070000
END:DAYLIGHT
BEGIN:STANDARD
TZOFFSETFROM:-0400
TZOFFSETTO:-0500
TZNAME:EST
DTSTART:20231105T060000
END:STANDARD
BEGIN:DAYLIGHT
TZOFFSETFROM:-0500
TZOFFSETTO:-0400
TZNAME:EDT
DTSTART:20240310T070000
END:DAYLIGHT
BEGIN:STANDARD
TZOFFSETFROM:-0400
TZOFFSETTO:-0500
TZNAME:EST
DTSTART:20241103T060000
END:STANDARD
BEGIN:DAYLIGHT
TZOFFSETFROM:-0500
TZOFFSETTO:-0400
TZNAME:EDT
DTSTART:20250309T070000
END:DAYLIGHT
BEGIN:STANDARD
TZOFFSETFROM:-0400
TZOFFSETTO:-0500
TZNAME:EST
DTSTART:20251102T060000
END:STANDARD
BEGIN:DAYLIGHT
TZOFFSETFROM:-0500
TZOFFSETTO:-0400
TZNAME:EDT
DTSTART:20260308T070000
END:DAYLIGHT
BEGIN:STANDARD
TZOFFSETFROM:-0400
TZOFFSETTO:-0500
TZNAME:EST
DTSTART:20261101T060000
END:STANDARD
END:VTIMEZONE
BEGIN:VTIMEZONE
TZID:UTC
BEGIN:STANDARD
TZOFFSETFROM:+0000
TZOFFSETTO:+0000
TZNAME:UTC
DTSTART:20160101T000000
END:STANDARD
END:VTIMEZONE
BEGIN:VEVENT
DTSTART;VALUE=DATE:20251011
DTEND;VALUE=DATE:20251020
DTSTAMP:20260423T140437
CREATED:20250831T165645Z
LAST-MODIFIED:20250908T230437Z
UID:31078-1760140800-1760918399@uscourttennis.org
SUMMARY:2025 IRTPA Players Championship
DESCRIPTION:
URL:https://uscourttennis.org/event/2025-irtpa-players-championship/
LOCATION:Aiken Tennis Club\, 146 Newberry St\, Aiken\, SC\, 29801\, United States
CATEGORIES:International,Professional
END:VEVENT
BEGIN:VEVENT
DTSTART;TZID=America/New_York:20250518T180000
DTEND;TZID=America/New_York:20250518T180000
DTSTAMP:20260423T140437
CREATED:20250505T212956Z
LAST-MODIFIED:20250523T143612Z
UID:30787-1747591200-1747591200@uscourttennis.org
SUMMARY:2025 Final Eliminator
DESCRIPTION:WATCH DAY 1 WATCH DAY 2 WATCH DAY 3\n2025 World Championship Final Eliminator – John Lumley def. Nick Howell 7 sets to 5 (6/1\, 6/5\, 6/0\, 3/6\, 2/6\, 4/6\, 5/6\, 3/6\, 6/4\, 6/5\, 6/2. 6/1). He will face Camden Riviere in the World Championship Sept. 23\, 25\, 27 in Newport
URL:https://uscourttennis.org/event/2025-final-eliminator/
LOCATION:Aiken Tennis Club\, 146 Newberry St\, Aiken\, SC\, 29801\, United States
CATEGORIES:International,Professional
ORGANIZER;CN="Nick Howell":MAILTO:nick@nationaltennisclub.org
END:VEVENT
BEGIN:VEVENT
DTSTART;VALUE=DATE:20230924
DTEND;VALUE=DATE:20231002
DTSTAMP:20260423T140437
CREATED:20230609T145603Z
LAST-MODIFIED:20230628T232514Z
UID:26816-1695513600-1696204799@uscourttennis.org
SUMMARY:2023 French Open
DESCRIPTION:
URL:https://uscourttennis.org/event/2023-french-open/
LOCATION:Jeu de Paume de Paris\, France
CATEGORIES:Doubles,International,Singles
END:VEVENT
BEGIN:VEVENT
DTSTART;VALUE=DATE:20230917
DTEND;VALUE=DATE:20230922
DTSTAMP:20260423T140437
CREATED:20221231T194628Z
LAST-MODIFIED:20221231T200053Z
UID:25955-1694908800-1695340799@uscourttennis.org
SUMMARY:2023 World Championship
DESCRIPTION:
URL:https://uscourttennis.org/event/2023-world-championship/
LOCATION:Westwood\, VA\, United States
CATEGORIES:International,Singles
END:VEVENT
BEGIN:VEVENT
DTSTART;VALUE=DATE:20230710
DTEND;VALUE=DATE:20230717
DTSTAMP:20260423T140437
CREATED:20230401T115559Z
LAST-MODIFIED:20230401T115634Z
UID:26426-1688947200-1689551999@uscourttennis.org
SUMMARY:Van Alen\, Clothier\, Limb Cups
DESCRIPTION:
URL:https://uscourttennis.org/event/van-alen-clothier-limb-cups/
LOCATION:Westwood\, VA\, United States
CATEGORIES:Amateur,Doubles,International,Juniors,Singles
ORGANIZER;CN="Ivan Ronaldson":MAILTO:ivan@westwoodcc.com
END:VEVENT
BEGIN:VEVENT
DTSTART;VALUE=DATE:20230329
DTEND;VALUE=DATE:20230401
DTSTAMP:20260423T140437
CREATED:20221231T194515Z
LAST-MODIFIED:20221231T194515Z
UID:25953-1680048000-1680307199@uscourttennis.org
SUMMARY:WC Eliminator - Aiken
DESCRIPTION:March 29 & 31 – Aiken \nBen Taylor-Matthews vs. Nick Howell \nBest of nine sets.
URL:https://uscourttennis.org/event/wc-eliminator-aiken/
LOCATION:Aiken Tennis Club\, 146 Newberry St\, Aiken\, SC\, 29801\, United States
CATEGORIES:International,Singles
ATTACH;FMTTYPE=image/png:https://uscourttennis.org/wp-content/uploads/2022/12/Screen-Shot-2022-12-31-at-12.25.23-PM.png
END:VEVENT
BEGIN:VEVENT
DTSTART;VALUE=DATE:20230322
DTEND;VALUE=DATE:20230325
DTSTAMP:20260423T140437
CREATED:20221231T194245Z
LAST-MODIFIED:20221231T194245Z
UID:25950-1679443200-1679702399@uscourttennis.org
SUMMARY:WC Eliminator - Philadelphia
DESCRIPTION:March 22 & 24 – \nJohn Lumley vs. Chris Chapman \nBest of nine sets. \n 
URL:https://uscourttennis.org/event/wc-eliminator-philadelphia/
LOCATION:Racquet Club of Philadelphia\, 215 S 16th Street\, Philadelphia\, PA\, 19102\, United States
CATEGORIES:International,Singles,USCTA Event
ATTACH;FMTTYPE=image/png:https://uscourttennis.org/wp-content/uploads/2022/12/Screen-Shot-2022-12-31-at-12.25.23-PM.png
END:VEVENT
BEGIN:VEVENT
DTSTART;VALUE=DATE:20221103
DTEND;VALUE=DATE:20221107
DTSTAMP:20260423T140437
CREATED:20220907T152428Z
LAST-MODIFIED:20220907T152428Z
UID:25481-1667433600-1667779199@uscourttennis.org
SUMMARY:Westwood Court Opening
DESCRIPTION:
URL:https://uscourttennis.org/event/westwood-court-opening/
LOCATION:Westwood\, VA\, United States
CATEGORIES:Amateur,Doubles,International,Professional,USCTA Event
ORGANIZER;CN="Ivan Ronaldson":MAILTO:ivan@westwoodcc.com
END:VEVENT
BEGIN:VEVENT
DTSTART;VALUE=DATE:20220911
DTEND;VALUE=DATE:20220916
DTSTAMP:20260423T140437
CREATED:20220902T202313Z
LAST-MODIFIED:20220910T003656Z
UID:25456-1662854400-1663286399@uscourttennis.org
SUMMARY:2022 World Championship
DESCRIPTION:STREAMING LINK\nhttps://www.247.tv/247 \nThe matches will be listed individually there under “Upcoming”\n\nYou must register and then either buy individual matches (£15) or the 3 Day package (£35). \nPROGRAM – CLICK HERE
URL:https://uscourttennis.org/event/2022-world-championship/
LOCATION:Prested Hall\, United Kingdom
CATEGORIES:International,Professional,Singles
END:VEVENT
BEGIN:VEVENT
DTSTART;VALUE=DATE:20210620
DTEND;VALUE=DATE:20210621
DTSTAMP:20260423T140437
CREATED:20210612T133356Z
LAST-MODIFIED:20210612T133356Z
UID:23395-1624147200-1624233599@uscourttennis.org
SUMMARY:International Tennis Day
DESCRIPTION:
URL:https://uscourttennis.org/event/international-tennis-day-3/
CATEGORIES:International,USCTA Event
END:VEVENT
BEGIN:VEVENT
DTSTART;VALUE=DATE:20190520
DTEND;VALUE=DATE:20190525
DTSTAMP:20260423T140437
CREATED:20181026T231737Z
LAST-MODIFIED:20181026T231737Z
UID:10124-1558310400-1558742399@uscourttennis.org
SUMMARY:World Masters 60s & 65s Individuals
DESCRIPTION:International singles and doubles for players 60 and over and 65 and over
URL:https://uscourttennis.org/event/world-masters-60s-65s-individuals/
LOCATION:Racquet Club of Philadelphia\, 215 S 16th Street\, Philadelphia\, PA\, 19102\, United States
CATEGORIES:Amateur,Doubles,International,Singles
ORGANIZER;CN="John Lumley":MAILTO:tennis@rcop.com
END:VEVENT
BEGIN:VEVENT
DTSTART;VALUE=DATE:20190519
DTEND;VALUE=DATE:20190520
DTSTAMP:20260423T140437
CREATED:20181026T231301Z
LAST-MODIFIED:20181026T231301Z
UID:10120-1558224000-1558310399@uscourttennis.org
SUMMARY:World Masters Ceremony
DESCRIPTION:
URL:https://uscourttennis.org/event/world-masters-ceremony/
LOCATION:The Tuxedo Club\, 1 W Lake Rd\, Tuxedo Park\, NY\, 10987\, United States
CATEGORIES:Amateur,Doubles,International,Singles
END:VEVENT
BEGIN:VEVENT
DTSTART;VALUE=DATE:20190514
DTEND;VALUE=DATE:20190520
DTSTAMP:20260423T140437
CREATED:20181026T231540Z
LAST-MODIFIED:20181026T231540Z
UID:10122-1557792000-1558310399@uscourttennis.org
SUMMARY:World Masters Team Events
DESCRIPTION:International team events for players ages 50 and over\, 60 and over and 70 and over
URL:https://uscourttennis.org/event/world-masters-team-events/
LOCATION:The Tuxedo Club\, 1 W Lake Rd\, Tuxedo Park\, NY\, 10987\, United States
CATEGORIES:Amateur,Doubles,International
END:VEVENT
BEGIN:VEVENT
DTSTART;VALUE=DATE:20190511
DTEND;VALUE=DATE:20190519
DTSTAMP:20260423T140437
CREATED:20181026T230719Z
LAST-MODIFIED:20190514T165535Z
UID:10114-1557532800-1558223999@uscourttennis.org
SUMMARY:Bathurst Cup
DESCRIPTION:Schedule and ResultsTeamsStreamingPlayer Bios\n				\n				\n					\n				\n				\n				\n				\n				\n			\n				\n				\n				\n				\n				AUSTRALIA Graeme Blundstone Alastair Ramsay (Captain) Michael Williams \nFRANCE Tim Batten (Captain) Charles-Antoyne (Charlie) Hurstel Matthieu Sarlangue Nicolas Victoir  \nGREAT BRITAIN Jamie Douglas (Capt.) Edmund Kay Jamie Giddins  \nUNITED STATES Pete Cipriano Jonathan Crowell (Capt.) Todd Meringoff Pat Winthrop  \n \n			\n				\n				\n				\n				\n				  \nCLICK HERE TO GO TO THE USCTA YOUTUBE CHANNEL\n  \n			\n				\n				\n				\n				\n				\nDownload (PDF\, 317KB) \n			\n				\n			\n			\n				\n				\n				\n				\n				\n				\n				\n				\n				\n				\n			\n				CLICK HERE TO VIEW THE PROGRAM
URL:https://uscourttennis.org/event/bathurst-cup-2/
LOCATION:Racquet Club of Chicago\, 1365 North Dearborn Parkway\, Chicago\, 60610\, United States
CATEGORIES:Amateur,Doubles,International,Singles,USCTA Event
END:VEVENT
BEGIN:VEVENT
DTSTART;VALUE=DATE:20190511
DTEND;VALUE=DATE:20190515
DTSTAMP:20260423T140437
CREATED:20181026T231142Z
LAST-MODIFIED:20181026T231142Z
UID:10118-1557532800-1557878399@uscourttennis.org
SUMMARY:World Masters 70s & 75s Individuals
DESCRIPTION:International singles and doubles for players 70 and over and 75 and over
URL:https://uscourttennis.org/event/world-masters-70s-75s-individuals/
LOCATION:National Tennis Club\, 194 Bellevue Avenue\, Newport\, RI\, 02840\, United States
CATEGORIES:Amateur,Doubles,International,Singles
ORGANIZER;CN="Mike Gooding":MAILTO:pros@nationaltennisclub.org
END:VEVENT
BEGIN:VEVENT
DTSTART;VALUE=DATE:20190511
DTEND;VALUE=DATE:20190515
DTSTAMP:20260423T140437
CREATED:20181026T230933Z
LAST-MODIFIED:20181026T230933Z
UID:10116-1557532800-1557878399@uscourttennis.org
SUMMARY:World Masters 50s & 55s Individuals
DESCRIPTION:International singles and doubles for players 50 and over and 55 and over
URL:https://uscourttennis.org/event/world-masters-50s-55s-individuals/
LOCATION:Racquet & Tennis Club\, 370 Park Avenue\, New York\, NY\, United States
CATEGORIES:Amateur,Doubles,International,Singles
ORGANIZER;CN="Barney Tanfield":MAILTO:tennis@rtcny.org
END:VEVENT
BEGIN:VEVENT
DTSTART;VALUE=DATE:20181102
DTEND;VALUE=DATE:20181105
DTSTAMP:20260423T140437
CREATED:20181006T054050Z
LAST-MODIFIED:20181006T054438Z
UID:10001-1541116800-1541375999@uscourttennis.org
SUMMARY:U.S. 50s
DESCRIPTION:Download (DOCX\, 156KB)
URL:https://uscourttennis.org/event/u-s-50s-3/
LOCATION:Racquet Club of Chicago\, 1365 North Dearborn Parkway\, Chicago\, 60610\, United States
CATEGORIES:Amateur,International,Singles
END:VEVENT
BEGIN:VEVENT
DTSTART;VALUE=DATE:20180720
DTEND;VALUE=DATE:20180723
DTSTAMP:20260423T140437
CREATED:20170923T212125Z
LAST-MODIFIED:20180630T213800Z
UID:8709-1532044800-1532303999@uscourttennis.org
SUMMARY:U.S. U19\, U17\, U15 U13 Singles
DESCRIPTION:U.S. Junior Singles \n\nDownload (PDF\, 456KB)
URL:https://uscourttennis.org/event/u-s-u19-u17-u15-u13-singles/
LOCATION:The Tuxedo Club\, 1 W Lake Rd\, Tuxedo Park\, NY\, 10987\, United States
CATEGORIES:International,Juniors,Singles,USCTA Event
ORGANIZER;CN="Tim Chisholm":MAILTO:TChisholm@thetuxedoclub.org
END:VEVENT
BEGIN:VEVENT
DTSTART;VALUE=DATE:20180604
DTEND;VALUE=DATE:20180610
DTSTAMP:20260423T140437
CREATED:20170923T211553Z
LAST-MODIFIED:20180412T222735Z
UID:8701-1528070400-1528588799@uscourttennis.org
SUMMARY:U.S. Professional Singles playing for the Schochet Cup
DESCRIPTION:Download (PDF\, 1.12MB)
URL:https://uscourttennis.org/event/u-s-professional-singles/
LOCATION:National Tennis Club\, 194 Bellevue Avenue\, Newport\, RI\, 02840\, United States
CATEGORIES:International,Professional,Singles,USCTA Event
ORGANIZER;CN="Mike Gooding":MAILTO:pros@nationaltennisclub.org
END:VEVENT
BEGIN:VEVENT
DTSTART;VALUE=DATE:20180424
DTEND;VALUE=DATE:20180429
DTSTAMP:20260423T140437
CREATED:20170923T210235Z
LAST-MODIFIED:20170923T210235Z
UID:8686-1524528000-1524959999@uscourttennis.org
SUMMARY:World Singles Championship
DESCRIPTION:World Championship – Singles. Best of 13 sets…played on April 24\, 26 and April 28
URL:https://uscourttennis.org/event/world-singles-championship/
LOCATION:Queens Club\, London\, United Kingdom
CATEGORIES:International,Other
END:VEVENT
BEGIN:VEVENT
DTSTART;VALUE=DATE:20180123
DTEND;VALUE=DATE:20180202
DTSTAMP:20260423T140437
CREATED:20170923T201732Z
LAST-MODIFIED:20170923T201732Z
UID:8659-1516665600-1517529599@uscourttennis.org
SUMMARY:U.S. Open
DESCRIPTION:Singles and doubles championships
URL:https://uscourttennis.org/event/u-s-open-3/
LOCATION:Tennis & Racquet Club\, 939 Boylston St\, Boston\, MA\, 02115\, United States
CATEGORIES:Amateur,Doubles,International,Professional,Singles,USCTA Event
ORGANIZER;CN="Tony Hollins":MAILTO:thollins@tennisfame.com
END:VEVENT
BEGIN:VEVENT
DTSTART;VALUE=DATE:20170710
DTEND;VALUE=DATE:20170717
DTSTAMP:20260423T140437
CREATED:20170210T070252Z
LAST-MODIFIED:20170711T171649Z
UID:7624-1499644800-1500249599@uscourttennis.org
SUMMARY:Van Alen\, Clothier\, Limb Cups
DESCRIPTION:Click here to go to our Van Alen\, Clothier and Limb Cup tournament page. \nInternational team competitions for players under 26 years
URL:https://uscourttennis.org/event/van-alen-clothier-lieb-cups/
LOCATION:Tennis & Racquet Club\, 939 Boylston St\, Boston\, MA\, 02115\, United States
CATEGORIES:International,Juniors
ORGANIZER;CN="Tony Hollins":MAILTO:thollins@tennisfame.com
END:VEVENT
BEGIN:VEVENT
DTSTART;VALUE=DATE:20170327
DTEND;VALUE=DATE:20170402
DTSTAMP:20260423T140437
CREATED:20170221T211233Z
LAST-MODIFIED:20170221T211233Z
UID:7701-1490572800-1491091199@uscourttennis.org
SUMMARY:Bathurst Cup
DESCRIPTION:
URL:https://uscourttennis.org/event/bathurst-cup/
CATEGORIES:Amateur,International
END:VEVENT
BEGIN:VEVENT
DTSTART;VALUE=DATE:20170225
DTEND;VALUE=DATE:20170307
DTSTAMP:20260423T140437
CREATED:20161220T042244Z
LAST-MODIFIED:20170211T120147Z
UID:7247-1487980800-1488844799@uscourttennis.org
SUMMARY:U.S. Open
DESCRIPTION:Go to the U.S. Open page for full details and information. \n\nDownload (PDF\, 1.34MB) \n\nDownload (PDF\, 1.34MB) \n\nDownload (PDF\, 86KB)
URL:https://uscourttennis.org/event/u-s-open-2/
LOCATION:Racquet Club of Philadelphia\, 215 S 16th Street\, Philadelphia\, PA\, 19102\, United States
CATEGORIES:Amateur,Doubles,International,Professional,Singles,USCTA Event
ORGANIZER;CN="Rob Whitehouse":MAILTO:courts@rcop.com
END:VEVENT
BEGIN:VEVENT
DTSTART;VALUE=DATE:20170116
DTEND;VALUE=DATE:20170130
DTSTAMP:20260423T140437
CREATED:20161014T212631Z
LAST-MODIFIED:20161014T212631Z
UID:6839-1484524800-1485734399@uscourttennis.org
SUMMARY:World Masters
DESCRIPTION:Download (PDF\, 602KB)
URL:https://uscourttennis.org/event/world-masters/
LOCATION:Royal Melbourne Tennis Club\, Melbourne\, Australia
CATEGORIES:Amateur,International,Other
ORGANIZER;CN="Henry Turnbull":MAILTO:Masters2017@bigpond.com
END:VEVENT
END:VCALENDAR