BEGIN:VCALENDAR
VERSION:2.0
PRODID:-//USCTA - ECPv6.15.20//NONSGML v1.0//EN
CALSCALE:GREGORIAN
METHOD:PUBLISH
X-WR-CALNAME:USCTA
X-ORIGINAL-URL:https://uscourttennis.org
X-WR-CALDESC:Events for USCTA
REFRESH-INTERVAL;VALUE=DURATION:PT1H
X-Robots-Tag:noindex
X-PUBLISHED-TTL:PT1H
BEGIN:VTIMEZONE
TZID:America/New_York
BEGIN:DAYLIGHT
TZOFFSETFROM:-0500
TZOFFSETTO:-0400
TZNAME:EDT
DTSTART:20240310T070000
END:DAYLIGHT
BEGIN:STANDARD
TZOFFSETFROM:-0400
TZOFFSETTO:-0500
TZNAME:EST
DTSTART:20241103T060000
END:STANDARD
BEGIN:DAYLIGHT
TZOFFSETFROM:-0500
TZOFFSETTO:-0400
TZNAME:EDT
DTSTART:20250309T070000
END:DAYLIGHT
BEGIN:STANDARD
TZOFFSETFROM:-0400
TZOFFSETTO:-0500
TZNAME:EST
DTSTART:20251102T060000
END:STANDARD
BEGIN:DAYLIGHT
TZOFFSETFROM:-0500
TZOFFSETTO:-0400
TZNAME:EDT
DTSTART:20260308T070000
END:DAYLIGHT
BEGIN:STANDARD
TZOFFSETFROM:-0400
TZOFFSETTO:-0500
TZNAME:EST
DTSTART:20261101T060000
END:STANDARD
BEGIN:DAYLIGHT
TZOFFSETFROM:-0500
TZOFFSETTO:-0400
TZNAME:EDT
DTSTART:20270314T070000
END:DAYLIGHT
BEGIN:STANDARD
TZOFFSETFROM:-0400
TZOFFSETTO:-0500
TZNAME:EST
DTSTART:20271107T060000
END:STANDARD
END:VTIMEZONE
BEGIN:VTIMEZONE
TZID:UTC
BEGIN:STANDARD
TZOFFSETFROM:+0000
TZOFFSETTO:+0000
TZNAME:UTC
DTSTART:20160101T000000
END:STANDARD
END:VTIMEZONE
BEGIN:VEVENT
DTSTART;VALUE=DATE:20260409
DTEND;VALUE=DATE:20260413
DTSTAMP:20260425T090947
CREATED:20250910T201140Z
LAST-MODIFIED:20260218T231936Z
UID:31211-1775692800-1776038399@uscourttennis.org
SUMMARY:2026 Cherry Blossom
DESCRIPTION:Handicapped Doubles for all levels \nCLICK HERE TO GO TO THE CHERRY BLOSSOM WEBSITE
URL:https://uscourttennis.org/event/2026-cherry-blossom/
LOCATION:Westwood\, VA\, United States
CATEGORIES:Amateur,Doubles,Professional
ORGANIZER;CN="Ben Taylor-Matthews":MAILTO:ben@westwoodcc.com
END:VEVENT
BEGIN:VEVENT
DTSTART;VALUE=DATE:20260330
DTEND;VALUE=DATE:20260402
DTSTAMP:20260425T090947
CREATED:20250910T201011Z
LAST-MODIFIED:20260325T172352Z
UID:31209-1774828800-1775087999@uscourttennis.org
SUMMARY:2026 National League Super Event
DESCRIPTION:The New York Racquet & Tennis Club is proud to partner with the United States Court Tennis Association and the United States Court Tennis Preservation Foundation to host the National League Super Event & Pro-Am from March 30 to April 1\, 2026. \nThis is the fifth year of the Super Event format and it will feature 7 of the top 8 doubles players in the world\, for three days of intense doubles competition in a team format. \nWith the invaluable partnership from the professionals\, the National League continues to evolve as the premier annual event\, featuring the strongest field in the country. \nThe event will be streamed live on the USCTA YouTube channel. For further details please contact the Pro Shop at the New York Racquet & Tennis Club. \nCLICK HERE TO GO TO THE NATIONAL LEAGUE SUPER EVENT PAGE\n \n[/et_pb_text][/et_pb_column][/et_pb_row][/et_pb_section]
URL:https://uscourttennis.org/event/2026-national-league-super-event/
LOCATION:Racquet & Tennis Club\, 370 Park Avenue\, New York\, NY\, United States
CATEGORIES:Doubles,Professional
ORGANIZER;CN="Barney Tanfield":MAILTO:tennis@rtcny.org
END:VEVENT
BEGIN:VEVENT
DTSTART;VALUE=DATE:20260318
DTEND;VALUE=DATE:20260327
DTSTAMP:20260425T090947
CREATED:20250910T200513Z
LAST-MODIFIED:20260203T173116Z
UID:31205-1773792000-1774569599@uscourttennis.org
SUMMARY:2026 U.S. Open
DESCRIPTION:National Championship in singles and doubles \nCLICK HERE TO ENTER THE U.S. OPEN \nPlease contact Will Hopton (will@racquetclubchicago.org and +1 312-714-0734) and/or Steve Virgona (steve@racquetclubchicago.org and +1 267-574-5008) with any questions
URL:https://uscourttennis.org/event/2026-u-s-open/
LOCATION:Racquet Club of Chicago\, 1365 North Dearborn Parkway\, Chicago\, 60610\, United States
CATEGORIES:Amateur,Doubles,Professional,Singles
END:VEVENT
BEGIN:VEVENT
DTSTART;VALUE=DATE:20260313
DTEND;VALUE=DATE:20260316
DTSTAMP:20260425T090947
CREATED:20250910T200328Z
LAST-MODIFIED:20250910T200328Z
UID:31203-1773360000-1773619199@uscourttennis.org
SUMMARY:2026 Percy Cup
DESCRIPTION:Invitational interclub team doubles
URL:https://uscourttennis.org/event/2026-percy-cup/
LOCATION:NY
CATEGORIES:Amateur,Doubles
END:VEVENT
BEGIN:VEVENT
DTSTART;VALUE=DATE:20260306
DTEND;VALUE=DATE:20260309
DTSTAMP:20260425T090947
CREATED:20250910T200231Z
LAST-MODIFIED:20260201T160412Z
UID:31201-1772755200-1773014399@uscourttennis.org
SUMMARY:2026 Northrup Knox & Aiken Spring Invitational
DESCRIPTION:The Northrup Knox is one of Aiken’s historic club events and is a doubles tournament for the best amateurs in the country with handicaps of 30 and below. \nThis year\, we are introducing a second event alongside the Knox: the Aiken Spring Invitational\, open to teams with handicaps up to 50. \nThe Spring Invitational  will allow us to create a fuller weekend of competitive matches\, giving spectators more tennis to watch and providing strong match play for players just outside the Knox field. \nKnox entries will take priority\, and spaces in both events are limited. \nCome to Aiken\, get out of the cold of the Northeast\, and enjoy great tennis\, warm weather\,  maybe some golf and a lively club atmosphere. \n*Housing available upon request for out of town players \nWe look forward to welcoming you.
URL:https://uscourttennis.org/event/2026-northrup-knox/
LOCATION:Aiken Tennis Club\, 146 Newberry St\, Aiken\, SC\, 29801\, United States
CATEGORIES:Amateur,Doubles
END:VEVENT
BEGIN:VEVENT
DTSTART;VALUE=DATE:20260306
DTEND;VALUE=DATE:20260309
DTSTAMP:20260425T090947
CREATED:20250910T200048Z
LAST-MODIFIED:20260218T232214Z
UID:31199-1772755200-1773014399@uscourttennis.org
SUMMARY:2026 U.S. Ladies Open
DESCRIPTION:CLICK HERE TO VIEW THE 2026 U.S. LADIES DRAWS \nTournament Chair: Daniel Nagler – dbn71@aol.com \n\n\n\nThe Boston Tennis & Racquet Club is honored to host the 2026 U.S. Ladies Open.\n\n\n 
URL:https://uscourttennis.org/event/2026-u-s-ladies-open/
LOCATION:Tennis & Racquet Club\, 939 Boylston St\, Boston\, MA\, 02115\, United States
CATEGORIES:Amateur,Doubles,Ladies,Professional,Singles
END:VEVENT
BEGIN:VEVENT
DTSTART;VALUE=DATE:20260227
DTEND;VALUE=DATE:20260302
DTSTAMP:20260425T090947
CREATED:20250910T195907Z
LAST-MODIFIED:20260218T230835Z
UID:31197-1772150400-1772409599@uscourttennis.org
SUMMARY:2026 U.S. 70s
DESCRIPTION:CLICK HERE TO VIEW THE U.S. 70s DRAWS \nNational Championship on singles and doubles for players ages 70 and over
URL:https://uscourttennis.org/event/2026-u-s-70s/
LOCATION:Racquet Club of Philadelphia\, 215 S 16th Street\, Philadelphia\, PA\, 19102\, United States
CATEGORIES:Amateur,Doubles,Seniors,Singles
ORGANIZER;CN="Rob Whitehouse":MAILTO:courts@rcop.com
END:VEVENT
BEGIN:VEVENT
DTSTART;VALUE=DATE:20260227
DTEND;VALUE=DATE:20260302
DTSTAMP:20260425T090947
CREATED:20250910T195750Z
LAST-MODIFIED:20260218T230733Z
UID:31195-1772150400-1772409599@uscourttennis.org
SUMMARY:2026 U.S. 60s
DESCRIPTION:CLICK HERE TO VIEW THE U.S. 60s DRAWS
URL:https://uscourttennis.org/event/2026-u-s-60s/
LOCATION:Racquet Club of Philadelphia\, 215 S 16th Street\, Philadelphia\, PA\, 19102\, United States
CATEGORIES:Amateur,Doubles,Seniors,Singles
ORGANIZER;CN="Rob Whitehouse":MAILTO:courts@rcop.com
END:VEVENT
BEGIN:VEVENT
DTSTART;VALUE=DATE:20260227
DTEND;VALUE=DATE:20260302
DTSTAMP:20260425T090947
CREATED:20250910T195631Z
LAST-MODIFIED:20260301T234326Z
UID:31193-1772150400-1772409599@uscourttennis.org
SUMMARY:2026 U.S. 40s
DESCRIPTION:Download (PDF\, 209KB)   \n\n \nCLICK HERE to ENTER TOURNAMENT
URL:https://uscourttennis.org/event/2026-u-s-40s/
LOCATION:National Tennis Club\, 194 Bellevue Avenue\, Newport\, RI\, 02840\, United States
CATEGORIES:Amateur,Doubles,Singles
ORGANIZER;CN="Tony Hollins":MAILTO:thollins@tennisfame.com
END:VEVENT
BEGIN:VEVENT
DTSTART;VALUE=DATE:20260220
DTEND;VALUE=DATE:20260223
DTSTAMP:20260425T090947
CREATED:20250910T195451Z
LAST-MODIFIED:20260218T231109Z
UID:31190-1771545600-1771804799@uscourttennis.org
SUMMARY:2026 U.S. 50s
DESCRIPTION:CLICK HERE TO VIEW THE U.S. 50s DRAW \nNational Championship on singles and doubles for players ages 50 and over \nThe Boston Tennis & Racquet Club is excited to host the U.S. 50s singles and doubles. This is the level court tennis national championships for players aged 50 or older. \nYou must be a current USCTA member and have three matches recorded in RTO in the last 90 days to be eligible for the event. \nThe weekend will include a welcoming cocktail hour in “Court 4”\, Saturday & Sunday lunch sandwiches in the Hamlen Room\, and a pay-your-own-way Saturday evening tournament dinner for those interested. \nEntry Fee is $175 for one event; $195 for singles & doubles. \nCLICK HERE TO REGISTER\nREGISTER HERE: US 50S ENTRY FORM – CLICK HERE \nIf you have any questions\, please feel free to email Tony Hollins at tony.hollins@tandr.org
URL:https://uscourttennis.org/event/2026-u-s-50s/
LOCATION:Tennis & Racquet Club\, 939 Boylston St\, Boston\, MA\, 02115\, United States
CATEGORIES:Amateur,Doubles,Seniors,Singles
END:VEVENT
BEGIN:VEVENT
DTSTART;VALUE=DATE:20260213
DTEND;VALUE=DATE:20260217
DTSTAMP:20260425T090947
CREATED:20250910T195220Z
LAST-MODIFIED:20260211T225600Z
UID:31188-1770940800-1771286399@uscourttennis.org
SUMMARY:2026 Gold Racquets
DESCRIPTION:CLICK HERE TO VIEW THE GOLD RACQUETS DRAW\n\nDownload (PDF\, 126KB)
URL:https://uscourttennis.org/event/2026-gold-racquets/
LOCATION:The Tuxedo Club\, 1 W Lake Rd\, Tuxedo Park\, NY\, 10987\, United States
CATEGORIES:Amateur,Doubles,Singles
ORGANIZER;CN="Tim Chisholm":MAILTO:TChisholm@thetuxedoclub.org
END:VEVENT
BEGIN:VEVENT
DTSTART;VALUE=DATE:20251212
DTEND;VALUE=DATE:20251215
DTSTAMP:20260425T090947
CREATED:20250910T190346Z
LAST-MODIFIED:20251214T150608Z
UID:31167-1765497600-1765756799@uscourttennis.org
SUMMARY:2025 Whitney Cup
DESCRIPTION:Invitational interclub team doubles \n\nDownload (PDF\, 186KB)
URL:https://uscourttennis.org/event/2025-whitney-cup/
LOCATION:Racquet & Tennis Club\, 370 Park Avenue\, New York\, NY\, United States
CATEGORIES:Amateur,Doubles
ORGANIZER;CN="Barney Tanfield":MAILTO:tennis@rtcny.org
END:VEVENT
BEGIN:VEVENT
DTSTART;VALUE=DATE:20251120
DTEND;VALUE=DATE:20251124
DTSTAMP:20260425T090947
CREATED:20250910T190228Z
LAST-MODIFIED:20250930T185853Z
UID:31164-1763596800-1763942399@uscourttennis.org
SUMMARY:2025 Jimmy Dunn
DESCRIPTION:ENTRY FORM CLICK HERE
URL:https://uscourttennis.org/event/2025-jimmy-dunn/
LOCATION:Racquet Club of Philadelphia\, 215 S 16th Street\, Philadelphia\, PA\, 19102\, United States
CATEGORIES:Amateur,Doubles,Professional
ORGANIZER;CN="Rob Whitehouse":MAILTO:courts@rcop.com
END:VEVENT
BEGIN:VEVENT
DTSTART;VALUE=DATE:20251106
DTEND;VALUE=DATE:20251110
DTSTAMP:20260425T090947
CREATED:20250909T130418Z
LAST-MODIFIED:20250909T130832Z
UID:31153-1762387200-1762732799@uscourttennis.org
SUMMARY:2025 Calhoun Witham
DESCRIPTION:
URL:https://uscourttennis.org/event/2025-calhoun-witham/
LOCATION:Aiken Tennis Club\, 146 Newberry St\, Aiken\, SC\, 29801\, United States
CATEGORIES:Amateur,Doubles
END:VEVENT
BEGIN:VEVENT
DTSTART;VALUE=DATE:20251024
DTEND;VALUE=DATE:20251027
DTSTAMP:20260425T090947
CREATED:20250908T231507Z
LAST-MODIFIED:20250908T231934Z
UID:31149-1761264000-1761523199@uscourttennis.org
SUMMARY:2025 Martin Cup
DESCRIPTION:
URL:https://uscourttennis.org/event/2025-martin-cup/
LOCATION:Westwood\, VA\, United States
CATEGORIES:Amateur,Doubles,Seniors
ORGANIZER;CN="Ben Taylor-Matthews":MAILTO:ben@westwoodcc.com
END:VEVENT
BEGIN:VEVENT
DTSTART;VALUE=DATE:20251017
DTEND;VALUE=DATE:20251020
DTSTAMP:20260425T090947
CREATED:20250908T230813Z
LAST-MODIFIED:20250930T183633Z
UID:31146-1760659200-1760918399@uscourttennis.org
SUMMARY:2025 Hadden Tomes
DESCRIPTION:
URL:https://uscourttennis.org/event/2025-hadden-tomes/
LOCATION:The Tuxedo Club\, 1 W Lake Rd\, Tuxedo Park\, NY\, 10987\, United States
CATEGORIES:Amateur,Doubles
ORGANIZER;CN="Tim Chisholm":MAILTO:TChisholm@thetuxedoclub.org
END:VEVENT
BEGIN:VEVENT
DTSTART;VALUE=DATE:20251003
DTEND;VALUE=DATE:20251005
DTSTAMP:20260425T090947
CREATED:20250908T230630Z
LAST-MODIFIED:20250930T183312Z
UID:31144-1759449600-1759622399@uscourttennis.org
SUMMARY:2025 Senior Challenge
DESCRIPTION:
URL:https://uscourttennis.org/event/senior-challenge/
LOCATION:Racquet Club of Philadelphia\, 215 S 16th Street\, Philadelphia\, PA\, 19102\, United States
CATEGORIES:Amateur,Doubles,Seniors
ORGANIZER;CN="Rob Whitehouse":MAILTO:courts@rcop.com
END:VEVENT
BEGIN:VEVENT
DTSTART;VALUE=DATE:20250924
DTEND;VALUE=DATE:20250928
DTSTAMP:20260425T090947
CREATED:20250829T210454Z
LAST-MODIFIED:20250829T210454Z
UID:31059-1758672000-1759017599@uscourttennis.org
SUMMARY:2025 Pineapple Cup
DESCRIPTION:Download (PDF\, 317KB)
URL:https://uscourttennis.org/event/2025-pineapple-cup/
LOCATION:National Tennis Club\, 194 Bellevue Avenue\, Newport\, RI\, 02840\, United States
CATEGORIES:Doubles
ORGANIZER;CN="Tony Hollins":MAILTO:thollins@tennisfame.com
END:VEVENT
BEGIN:VEVENT
DTSTART;TZID=America/New_York:20250910T080000
DTEND;TZID=America/New_York:20250910T170000
DTSTAMP:20260425T090947
CREATED:20250910T201619Z
LAST-MODIFIED:20250910T201619Z
UID:31218-1757491200-1757523600@uscourttennis.org
SUMMARY:2026 U.S. Amateur
DESCRIPTION:National Championship in singles and doubles
URL:https://uscourttennis.org/event/2026-u-s-amateur/
LOCATION:The Tuxedo Club\, 1 W Lake Rd\, Tuxedo Park\, NY\, 10987\, United States
CATEGORIES:Amateur,Doubles,Singles
ORGANIZER;CN="Tim Chisholm":MAILTO:TChisholm@thetuxedoclub.org
END:VEVENT
BEGIN:VEVENT
DTSTART;VALUE=DATE:20250627
DTEND;VALUE=DATE:20250630
DTSTAMP:20260425T090947
CREATED:20250602T015039Z
LAST-MODIFIED:20250626T220959Z
UID:30862-1750982400-1751241599@uscourttennis.org
SUMMARY:2025 U26 Singles & Doubles
DESCRIPTION:2025 USCTA U26 SINGLES MAIN DRAW\n      \n   \n   \n      \n         \n         2025 USCTA U26 DOUBLES MAIN DRAW\n      \n   \n   \n      \n         \n         2025 USCTA U26 SINGLES & DOUBLES SCHEDULE OF PLAY
URL:https://uscourttennis.org/event/2025-u26-singles-doubles/
LOCATION:The Tuxedo Club\, 1 W Lake Rd\, Tuxedo Park\, NY\, 10987\, United States
CATEGORIES:Amateur,Doubles,Juniors,Singles
ORGANIZER;CN="Tim Chisholm":MAILTO:TChisholm@thetuxedoclub.org
END:VEVENT
BEGIN:VEVENT
DTSTART;VALUE=DATE:20250523
DTEND;VALUE=DATE:20250601
DTSTAMP:20260425T090947
CREATED:20241027T162920Z
LAST-MODIFIED:20250401T002823Z
UID:29417-1747958400-1748735999@uscourttennis.org
SUMMARY:2025 Ladies World Championship
DESCRIPTION:
URL:https://uscourttennis.org/event/2025-ladies-world-championship/
LOCATION:National Tennis Club\, 194 Bellevue Avenue\, Newport\, RI\, 02840\, United States
CATEGORIES:Doubles,Ladies,Singles
ORGANIZER;CN="Tony Hollins":MAILTO:thollins@tennisfame.com
END:VEVENT
BEGIN:VEVENT
DTSTART;VALUE=DATE:20250425
DTEND;VALUE=DATE:20250428
DTSTAMP:20260425T090947
CREATED:20241027T162545Z
LAST-MODIFIED:20250419T125746Z
UID:29413-1745539200-1745798399@uscourttennis.org
SUMMARY:2025 US Amateur
DESCRIPTION:CLICK HERE TO GO TO THE U.S. AMATEUR TOURNAMENT PAGE
URL:https://uscourttennis.org/event/2025-us-amateur/
LOCATION:Racquet Club of Philadelphia\, 215 S 16th Street\, Philadelphia\, PA\, 19102\, United States
CATEGORIES:Amateur,Doubles,Singles,USCTA Event
ORGANIZER;CN="Rob Whitehouse":MAILTO:courts@rcop.com
END:VEVENT
BEGIN:VEVENT
DTSTART;VALUE=DATE:20250331
DTEND;VALUE=DATE:20250403
DTSTAMP:20260425T090948
CREATED:20241027T162222Z
LAST-MODIFIED:20250403T021004Z
UID:29409-1743379200-1743638399@uscourttennis.org
SUMMARY:2025 National League Super Event
DESCRIPTION:Congratulations to Team Tambour (James Stout\, Noah Motz\, Ben Taylor-Matthews and Adrian Kemp) on winning the 2025 National League!! \n \n 
URL:https://uscourttennis.org/event/2025-national-league-super-event/
LOCATION:Racquet & Tennis Club\, 370 Park Avenue\, New York\, NY\, United States
CATEGORIES:Amateur,Doubles,Professional,USCTA Event
ORGANIZER;CN="Barney Tanfield":MAILTO:tennis@rtcny.org
END:VEVENT
BEGIN:VEVENT
DTSTART;VALUE=DATE:20170217
DTEND;VALUE=DATE:20170221
DTSTAMP:20260425T090948
CREATED:20161220T042136Z
LAST-MODIFIED:20170222T203511Z
UID:7245-1487289600-1487635199@uscourttennis.org
SUMMARY:Gold Racquet
DESCRIPTION:Download (PDF\, 404KB) \n\nDownload (PDF\, 181KB)
URL:https://uscourttennis.org/event/gold-racquet-2/
LOCATION:The Tuxedo Club\, 1 W Lake Rd\, Tuxedo Park\, NY\, 10987\, United States
CATEGORIES:Amateur,Doubles,Singles
ORGANIZER;CN="Tim Chisholm":MAILTO:TChisholm@thetuxedoclub.org
END:VEVENT
BEGIN:VEVENT
DTSTART;VALUE=DATE:20170310
DTEND;VALUE=DATE:20170313
DTSTAMP:20260425T090948
CREATED:20161220T042444Z
LAST-MODIFIED:20170308T012706Z
UID:7251-1489104000-1489363199@uscourttennis.org
SUMMARY:Percy Cup
DESCRIPTION:Download (PDF\, 24KB)
URL:https://uscourttennis.org/event/percy-cup/
LOCATION:Racquet Club of Philadelphia\, 215 S 16th Street\, Philadelphia\, PA\, 19102\, United States
CATEGORIES:Amateur,Doubles
ORGANIZER;CN="Rob Whitehouse":MAILTO:courts@rcop.com
END:VEVENT
BEGIN:VEVENT
DTSTART;VALUE=DATE:20170217
DTEND;VALUE=DATE:20170221
DTSTAMP:20260425T090948
CREATED:20161220T042136Z
LAST-MODIFIED:20170222T203511Z
UID:7245-1487289600-1487635199@uscourttennis.org
SUMMARY:Gold Racquet
DESCRIPTION:Download (PDF\, 404KB) \n\nDownload (PDF\, 181KB)
URL:https://uscourttennis.org/event/gold-racquet-2/
LOCATION:The Tuxedo Club\, 1 W Lake Rd\, Tuxedo Park\, NY\, 10987\, United States
CATEGORIES:Amateur,Doubles,Singles
ORGANIZER;CN="Tim Chisholm":MAILTO:TChisholm@thetuxedoclub.org
END:VEVENT
BEGIN:VEVENT
DTSTART;VALUE=DATE:20170310
DTEND;VALUE=DATE:20170313
DTSTAMP:20260425T090948
CREATED:20161220T042444Z
LAST-MODIFIED:20170308T012706Z
UID:7251-1489104000-1489363199@uscourttennis.org
SUMMARY:Percy Cup
DESCRIPTION:Download (PDF\, 24KB)
URL:https://uscourttennis.org/event/percy-cup/
LOCATION:Racquet Club of Philadelphia\, 215 S 16th Street\, Philadelphia\, PA\, 19102\, United States
CATEGORIES:Amateur,Doubles
ORGANIZER;CN="Rob Whitehouse":MAILTO:courts@rcop.com
END:VEVENT
BEGIN:VEVENT
DTSTART;VALUE=DATE:20170217
DTEND;VALUE=DATE:20170221
DTSTAMP:20260425T090948
CREATED:20161220T042136Z
LAST-MODIFIED:20170222T203511Z
UID:7245-1487289600-1487635199@uscourttennis.org
SUMMARY:Gold Racquet
DESCRIPTION:Download (PDF\, 404KB) \n\nDownload (PDF\, 181KB)
URL:https://uscourttennis.org/event/gold-racquet-2/
LOCATION:The Tuxedo Club\, 1 W Lake Rd\, Tuxedo Park\, NY\, 10987\, United States
CATEGORIES:Amateur,Doubles,Singles
ORGANIZER;CN="Tim Chisholm":MAILTO:TChisholm@thetuxedoclub.org
END:VEVENT
BEGIN:VEVENT
DTSTART;VALUE=DATE:20170310
DTEND;VALUE=DATE:20170313
DTSTAMP:20260425T090948
CREATED:20161220T042444Z
LAST-MODIFIED:20170308T012706Z
UID:7251-1489104000-1489363199@uscourttennis.org
SUMMARY:Percy Cup
DESCRIPTION:Download (PDF\, 24KB)
URL:https://uscourttennis.org/event/percy-cup/
LOCATION:Racquet Club of Philadelphia\, 215 S 16th Street\, Philadelphia\, PA\, 19102\, United States
CATEGORIES:Amateur,Doubles
ORGANIZER;CN="Rob Whitehouse":MAILTO:courts@rcop.com
END:VEVENT
BEGIN:VEVENT
DTSTART;VALUE=DATE:20170217
DTEND;VALUE=DATE:20170221
DTSTAMP:20260425T090948
CREATED:20161220T042136Z
LAST-MODIFIED:20170222T203511Z
UID:7245-1487289600-1487635199@uscourttennis.org
SUMMARY:Gold Racquet
DESCRIPTION:Download (PDF\, 404KB) \n\nDownload (PDF\, 181KB)
URL:https://uscourttennis.org/event/gold-racquet-2/
LOCATION:The Tuxedo Club\, 1 W Lake Rd\, Tuxedo Park\, NY\, 10987\, United States
CATEGORIES:Amateur,Doubles,Singles
ORGANIZER;CN="Tim Chisholm":MAILTO:TChisholm@thetuxedoclub.org
END:VEVENT
END:VCALENDAR